BEGIN:VCALENDAR
VERSION:2.0
PRODID:-//PotsKids! - ECPv6.4.0.1//NONSGML v1.0//EN
CALSCALE:GREGORIAN
METHOD:PUBLISH
X-WR-CALNAME:PotsKids!
X-ORIGINAL-URL:https://potskids.de
X-WR-CALDESC:Veranstaltungen für PotsKids!
REFRESH-INTERVAL;VALUE=DURATION:PT1H
X-Robots-Tag:noindex
X-PUBLISHED-TTL:PT1H
BEGIN:VTIMEZONE
TZID:Europe/Berlin
BEGIN:DAYLIGHT
TZOFFSETFROM:+0100
TZOFFSETTO:+0200
TZNAME:CEST
DTSTART:20260329T010000
END:DAYLIGHT
BEGIN:STANDARD
TZOFFSETFROM:+0200
TZOFFSETTO:+0100
TZNAME:CET
DTSTART:20261025T010000
END:STANDARD
END:VTIMEZONE
BEGIN:VEVENT
DTSTART;TZID=Europe/Berlin:20260424T123000
DTEND;TZID=Europe/Berlin:20260424T133000
DTSTAMP:20260421T221018
CREATED:20260117T134509Z
LAST-MODIFIED:20260412T185401Z
UID:10050989-1777033800-1777037400@potskids.de
SUMMARY:Kinderwagenkino
DESCRIPTION:Eltern können gemeinsam mit ihrem Nachwuchs immer am letzten Freitag im Monat einen aktuellen Kinofilm schauen und den Kinderwagen einfach mit ins Kino nehmen. Die Filmvorstellung wird mit gedämpftem Ton gezeigt\, um die feinen Ohren ihres kleinen Schatzes nicht zu schädigen und das Licht wird gedimmt\, sodass Sie immer alles im Blick haben. Eine Wickelmöglichkeit steht ebenfalls zur Verfügung. \nDas Kinderwagenkino wird präsentiert von POTSKIDS! - DAS FAMILIENMAGAZIN FÜR POTSDAM UND UMGEBUNG \nIhr könnt mitbestimmen\, was wir euch zeigen und dabei eine Freikarte gewinnen. Folgt POTSKIDS! AUF INSTAGRAM und wählt dort aus\, was ihr sehen wollt. Der Film mit den meisten stimmen ist dann der Kinderwagenkino-Film des Monats.
URL:https://potskids.de/potsdam-veranstaltung/kinderwagenkino/2026-04-24/
LOCATION:Thalia Kino Potsdam\, Rudolf-Breitscheid-Str. 50\, Potsdam\, Brandenburg\, 14482\, Deutschland
CATEGORIES:Kino
ORGANIZER;CN="Thalia Kino Potsdam":MAILTO:info@thalia-potsdam.de
END:VEVENT
BEGIN:VEVENT
DTSTART;TZID=Europe/Berlin:20260529T123000
DTEND;TZID=Europe/Berlin:20260529T133000
DTSTAMP:20260421T221018
CREATED:20260418T102427Z
LAST-MODIFIED:20260418T102433Z
UID:10054399-1780057800-1780061400@potskids.de
SUMMARY:Kinderwagenkino
DESCRIPTION:Eltern können gemeinsam mit ihrem Nachwuchs immer am letzten Freitag im Monat einen aktuellen Kinofilm schauen und den Kinderwagen einfach mit ins Kino nehmen. Die Filmvorstellung wird mit gedämpftem Ton gezeigt\, um die feinen Ohren ihres kleinen Schatzes nicht zu schädigen und das Licht wird gedimmt\, sodass Sie immer alles im Blick haben. Eine Wickelmöglichkeit steht ebenfalls zur Verfügung. \nDas Kinderwagenkino wird präsentiert von POTSKIDS! - DAS FAMILIENMAGAZIN FÜR POTSDAM UND UMGEBUNG \nIhr könnt mitbestimmen\, was wir euch zeigen und dabei eine Freikarte gewinnen. Folgt POTSKIDS! AUF INSTAGRAM und wählt dort aus\, was ihr sehen wollt. Der Film mit den meisten stimmen ist dann der Kinderwagenkino-Film des Monats.
URL:https://potskids.de/potsdam-veranstaltung/kinderwagenkino-2/
LOCATION:Thalia Kino Potsdam\, Rudolf-Breitscheid-Str. 50\, Potsdam\, Brandenburg\, 14482\, Deutschland
CATEGORIES:Kino
ORGANIZER;CN="Thalia Kino Potsdam":MAILTO:info@thalia-potsdam.de
END:VEVENT
BEGIN:VEVENT
DTSTART;TZID=Europe/Berlin:20260626T123000
DTEND;TZID=Europe/Berlin:20260626T133000
DTSTAMP:20260421T221018
CREATED:20260117T134509Z
LAST-MODIFIED:20260412T185401Z
UID:10054400-1782477000-1782480600@potskids.de
SUMMARY:Kinderwagenkino
DESCRIPTION:Eltern können gemeinsam mit ihrem Nachwuchs immer am letzten Freitag im Monat einen aktuellen Kinofilm schauen und den Kinderwagen einfach mit ins Kino nehmen. Die Filmvorstellung wird mit gedämpftem Ton gezeigt\, um die feinen Ohren ihres kleinen Schatzes nicht zu schädigen und das Licht wird gedimmt\, sodass Sie immer alles im Blick haben. Eine Wickelmöglichkeit steht ebenfalls zur Verfügung. \nDas Kinderwagenkino wird präsentiert von POTSKIDS! - DAS FAMILIENMAGAZIN FÜR POTSDAM UND UMGEBUNG \nIhr könnt mitbestimmen\, was wir euch zeigen und dabei eine Freikarte gewinnen. Folgt POTSKIDS! AUF INSTAGRAM und wählt dort aus\, was ihr sehen wollt. Der Film mit den meisten stimmen ist dann der Kinderwagenkino-Film des Monats.
URL:https://potskids.de/potsdam-veranstaltung/kinderwagenkino/2026-06-26/
LOCATION:Thalia Kino Potsdam\, Rudolf-Breitscheid-Str. 50\, Potsdam\, Brandenburg\, 14482\, Deutschland
CATEGORIES:Kino
ORGANIZER;CN="Thalia Kino Potsdam":MAILTO:info@thalia-potsdam.de
END:VEVENT
END:VCALENDAR