BEGIN:VCALENDAR
VERSION:2.0
PRODID:-//PotsKids! - ECPv6.4.0.1//NONSGML v1.0//EN
CALSCALE:GREGORIAN
METHOD:PUBLISH
X-WR-CALNAME:PotsKids!
X-ORIGINAL-URL:https://potskids.de
X-WR-CALDESC:Veranstaltungen für PotsKids!
REFRESH-INTERVAL;VALUE=DURATION:PT1H
X-Robots-Tag:noindex
X-PUBLISHED-TTL:PT1H
BEGIN:VTIMEZONE
TZID:Europe/Berlin
BEGIN:DAYLIGHT
TZOFFSETFROM:+0100
TZOFFSETTO:+0200
TZNAME:CEST
DTSTART:20260329T010000
END:DAYLIGHT
BEGIN:STANDARD
TZOFFSETFROM:+0200
TZOFFSETTO:+0100
TZNAME:CET
DTSTART:20261025T010000
END:STANDARD
END:VTIMEZONE
BEGIN:VEVENT
DTSTART;TZID=Europe/Berlin:20260506T100000
DTEND;TZID=Europe/Berlin:20260506T130000
DTSTAMP:20260421T044123
CREATED:20260415T193320Z
LAST-MODIFIED:20260418T122645Z
UID:10054598-1778061600-1778072400@potskids.de
SUMMARY:25. Theaterfestival „Junges Theater Sonnenblume e.V.“
DESCRIPTION:Zum 25. Mal Vorhang auf: Das große Jubiläums-Theaterfestival 2026! \nDer Verein zur Förderung des „Jungen Theaters Sonnenblume“ e.V. feiert ein Vierteljahrhundert voller Kreativität und Inklusion. Seit seiner Gründung im Jahr 1998 veranstaltet der Verein mit Leidenschaft Theatertreffen für Kinder und Jugendliche aus Schulen mit Förderschwerpunkten sowie Schulen mit gemeinsamem Unterricht im Land Brandenburg. Am 6. und 7. Mai 2026 verwandelt sich der Treffpunkt Freizeit in Potsdam in eine riesige Bühne für rund 200 kleine und große Künstlerinnen und Künstler. \nWas euch erwartet: \n\nBühnenprogramm: Zahlreiche Schulen aus ganz Brandenburg und Berlin präsentieren ein buntes Spektrum aus Theater\, Tanz\, Gesang und vielem mehr. Von eigenen Inszenierungen bis hin zu neu interpretierten Klassikern ist alles dabei.\nRahmenprogramm: Während des Programms und in den Pausen ist für beste Unterhaltung gesorgt. Freut euch auf faszinierende Zauberei\, jede Menge Kinderspaß und weitere Überraschungen\, die\nden Tag unvergesslich machen.\nGemeinschaft: Erlebt hautnah\, wie Trommelrhythmen und schauspielerisches Talent Barrieren abbauen und pure Lebensfreude versprühen.\n\nInteressierte Kindergruppen und Schulklassen können gern dieses besondere Jubiläum mit feiern! Es ist auch möglich nur zu den einzelnen Vorstellungsblöcken vorbeizuschauen. \nKartenreservierungen: theater.sonnenblume@gmx.de
URL:https://potskids.de/potsdam-veranstaltung/inklusionstage-2026-25-theaterfestival-junges-theater-sonnenblume-e-v/2026-05-06/
LOCATION:Treffpunkt Freizeit\, Am Neuen Garten 64\, Potsdam\, Brandenburg\, 14469
CATEGORIES:Familie,Kultur,Musik,Spiel und Spaß,Tanz,Theater
ORGANIZER;CN="Treffpunkt Freizeit":MAILTO:info@kubus-potsdam.de
END:VEVENT
BEGIN:VEVENT
DTSTART;TZID=Europe/Berlin:20260507T100000
DTEND;TZID=Europe/Berlin:20260507T130000
DTSTAMP:20260421T044123
CREATED:20260415T193320Z
LAST-MODIFIED:20260418T122645Z
UID:10054599-1778148000-1778158800@potskids.de
SUMMARY:25. Theaterfestival „Junges Theater Sonnenblume e.V.“
DESCRIPTION:Zum 25. Mal Vorhang auf: Das große Jubiläums-Theaterfestival 2026! \nDer Verein zur Förderung des „Jungen Theaters Sonnenblume“ e.V. feiert ein Vierteljahrhundert voller Kreativität und Inklusion. Seit seiner Gründung im Jahr 1998 veranstaltet der Verein mit Leidenschaft Theatertreffen für Kinder und Jugendliche aus Schulen mit Förderschwerpunkten sowie Schulen mit gemeinsamem Unterricht im Land Brandenburg. Am 6. und 7. Mai 2026 verwandelt sich der Treffpunkt Freizeit in Potsdam in eine riesige Bühne für rund 200 kleine und große Künstlerinnen und Künstler. \nWas euch erwartet: \n\nBühnenprogramm: Zahlreiche Schulen aus ganz Brandenburg und Berlin präsentieren ein buntes Spektrum aus Theater\, Tanz\, Gesang und vielem mehr. Von eigenen Inszenierungen bis hin zu neu interpretierten Klassikern ist alles dabei.\nRahmenprogramm: Während des Programms und in den Pausen ist für beste Unterhaltung gesorgt. Freut euch auf faszinierende Zauberei\, jede Menge Kinderspaß und weitere Überraschungen\, die\nden Tag unvergesslich machen.\nGemeinschaft: Erlebt hautnah\, wie Trommelrhythmen und schauspielerisches Talent Barrieren abbauen und pure Lebensfreude versprühen.\n\nInteressierte Kindergruppen und Schulklassen können gern dieses besondere Jubiläum mit feiern! Es ist auch möglich nur zu den einzelnen Vorstellungsblöcken vorbeizuschauen. \nKartenreservierungen: theater.sonnenblume@gmx.de
URL:https://potskids.de/potsdam-veranstaltung/inklusionstage-2026-25-theaterfestival-junges-theater-sonnenblume-e-v/2026-05-07/
LOCATION:Treffpunkt Freizeit\, Am Neuen Garten 64\, Potsdam\, Brandenburg\, 14469
CATEGORIES:Familie,Kultur,Musik,Spiel und Spaß,Tanz,Theater
ORGANIZER;CN="Treffpunkt Freizeit":MAILTO:info@kubus-potsdam.de
END:VEVENT
END:VCALENDAR