BEGIN:VCALENDAR
VERSION:2.0
PRODID:-//PotsKids! - ECPv6.4.0.1//NONSGML v1.0//EN
CALSCALE:GREGORIAN
METHOD:PUBLISH
X-WR-CALNAME:PotsKids!
X-ORIGINAL-URL:https://potskids.de
X-WR-CALDESC:Veranstaltungen für PotsKids!
REFRESH-INTERVAL;VALUE=DURATION:PT1H
X-Robots-Tag:noindex
X-PUBLISHED-TTL:PT1H
BEGIN:VTIMEZONE
TZID:Europe/Berlin
BEGIN:DAYLIGHT
TZOFFSETFROM:+0100
TZOFFSETTO:+0200
TZNAME:CEST
DTSTART:20260329T010000
END:DAYLIGHT
BEGIN:STANDARD
TZOFFSETFROM:+0200
TZOFFSETTO:+0100
TZNAME:CET
DTSTART:20261025T010000
END:STANDARD
END:VTIMEZONE
BEGIN:VEVENT
DTSTART;TZID=Europe/Berlin:20260626T190000
DTEND;TZID=Europe/Berlin:20260626T200000
DTSTAMP:20260421T201058
CREATED:20260415T194927Z
LAST-MODIFIED:20260415T194927Z
UID:10054601-1782500400-1782504000@potskids.de
SUMMARY:"Schneewittchen reloaded" & "Herr Zwerg und die sieben Showwittchen"
DESCRIPTION:In dem Musical-Doppelpaket von der Schatzinsel Potsdam gehts märchenhaft satirisch zu! "Schneewittchen reloaded“ interpretiert die bekannten Figuren unterhaltsam neu mit einem Zauberspiegel\, der keinen Bock hat und kennt ihr schon den Pilzfluencer? „Herr Zwerg und die 7 Showwittchen“ ist ein bitterböser Musical - Kommentar vom preisgekrönten Komponisten Tom van Hasselt zu Casting-Shows und „Superstar-werden-wollen“.
URL:https://potskids.de/potsdam-veranstaltung/schneewittchen-reloaded-herr-zwerg-und-die-sieben-showwittchen/2026-06-26/
LOCATION:Schatzinsel Potsdam\, Charlottenstrasse 31\, Potsdam\, Brandenburg\, 14482\, Deutschland
CATEGORIES:Familie,Kultur,Märchen,Musical,Theater
ORGANIZER;CN="Schatzinsel Potsdam":MAILTO:info@schatzinsel-potsdam.de
END:VEVENT
BEGIN:VEVENT
DTSTART;TZID=Europe/Berlin:20260627T180000
DTEND;TZID=Europe/Berlin:20260627T190000
DTSTAMP:20260421T201058
CREATED:20260415T194927Z
LAST-MODIFIED:20260415T194927Z
UID:10054602-1782583200-1782586800@potskids.de
SUMMARY:"Schneewittchen reloaded" & "Herr Zwerg und die sieben Showwittchen"
DESCRIPTION:In dem Musical-Doppelpaket von der Schatzinsel Potsdam gehts märchenhaft satirisch zu! "Schneewittchen reloaded“ interpretiert die bekannten Figuren unterhaltsam neu mit einem Zauberspiegel\, der keinen Bock hat und kennt ihr schon den Pilzfluencer? „Herr Zwerg und die 7 Showwittchen“ ist ein bitterböser Musical - Kommentar vom preisgekrönten Komponisten Tom van Hasselt zu Casting-Shows und „Superstar-werden-wollen“.
URL:https://potskids.de/potsdam-veranstaltung/schneewittchen-reloaded-herr-zwerg-und-die-sieben-showwittchen/2026-06-27/
LOCATION:Schatzinsel Potsdam\, Charlottenstrasse 31\, Potsdam\, Brandenburg\, 14482\, Deutschland
CATEGORIES:Familie,Kultur,Märchen,Musical,Theater
ORGANIZER;CN="Schatzinsel Potsdam":MAILTO:info@schatzinsel-potsdam.de
END:VEVENT
BEGIN:VEVENT
DTSTART;TZID=Europe/Berlin:20260628T160000
DTEND;TZID=Europe/Berlin:20260628T170000
DTSTAMP:20260421T201058
CREATED:20260415T194927Z
LAST-MODIFIED:20260415T194927Z
UID:10054603-1782662400-1782666000@potskids.de
SUMMARY:"Schneewittchen reloaded" & "Herr Zwerg und die sieben Showwittchen"
DESCRIPTION:In dem Musical-Doppelpaket von der Schatzinsel Potsdam gehts märchenhaft satirisch zu! "Schneewittchen reloaded“ interpretiert die bekannten Figuren unterhaltsam neu mit einem Zauberspiegel\, der keinen Bock hat und kennt ihr schon den Pilzfluencer? „Herr Zwerg und die 7 Showwittchen“ ist ein bitterböser Musical - Kommentar vom preisgekrönten Komponisten Tom van Hasselt zu Casting-Shows und „Superstar-werden-wollen“.
URL:https://potskids.de/potsdam-veranstaltung/schneewittchen-reloaded-herr-zwerg-und-die-sieben-showwittchen/2026-06-28/
LOCATION:Schatzinsel Potsdam\, Charlottenstrasse 31\, Potsdam\, Brandenburg\, 14482\, Deutschland
CATEGORIES:Familie,Kultur,Märchen,Musical,Theater
ORGANIZER;CN="Schatzinsel Potsdam":MAILTO:info@schatzinsel-potsdam.de
END:VEVENT
END:VCALENDAR