BEGIN:VCALENDAR
VERSION:2.0
PRODID:-//PotsKids! - ECPv6.4.0.1//NONSGML v1.0//EN
CALSCALE:GREGORIAN
METHOD:PUBLISH
X-WR-CALNAME:PotsKids!
X-ORIGINAL-URL:https://potskids.de
X-WR-CALDESC:Veranstaltungen für PotsKids!
REFRESH-INTERVAL;VALUE=DURATION:PT1H
X-Robots-Tag:noindex
X-PUBLISHED-TTL:PT1H
BEGIN:VTIMEZONE
TZID:Europe/Berlin
BEGIN:DAYLIGHT
TZOFFSETFROM:+0100
TZOFFSETTO:+0200
TZNAME:CEST
DTSTART:20260329T010000
END:DAYLIGHT
BEGIN:STANDARD
TZOFFSETFROM:+0200
TZOFFSETTO:+0100
TZNAME:CET
DTSTART:20261025T010000
END:STANDARD
END:VTIMEZONE
BEGIN:VEVENT
DTSTART;TZID=Europe/Berlin:20260502T153000
DTEND;TZID=Europe/Berlin:20260502T160000
DTSTAMP:20260421T150923
CREATED:20260418T090454Z
LAST-MODIFIED:20260418T090455Z
UID:10054671-1777735800-1777737600@potskids.de
SUMMARY:Wettlauf zwischen Hase & Igel
DESCRIPTION:Ein Märchen sehr frei nach den Gebrüder Grimm bearbeitet\, für Kinder ab 3 Jahren und einer Dauer von ca. 30 min in der Puppenbühne "Burattino". \nFreund Hase gibt sich als Macho\, denkt es mit jedem aufnehmen zu können und ärgert den Igel solange\, bis dieser einer aussichtslos erscheinenden Wette zustimmt. Nur durch einen Trick gelingt es den Hasen zu überlisten.
URL:https://potskids.de/potsdam-veranstaltung/wettlauf-zw-hase-igel-2/
LOCATION:Puppenbühne Burattino\, Rosenstraße 35\, Potsdam\, Brandenburg\, 14482\, Deutschland
CATEGORIES:Dies und Das,Geschichten,Märchen,Puppentheater
ORGANIZER;CN="Puppenb%C3%BChne Burattino":MAILTO:puppenbuehneburattino@web.de
END:VEVENT
BEGIN:VEVENT
DTSTART;TZID=Europe/Berlin:20260510T153000
DTEND;TZID=Europe/Berlin:20260510T160000
DTSTAMP:20260421T150923
CREATED:20260417T204629Z
LAST-MODIFIED:20260418T090445Z
UID:10054672-1778427000-1778428800@potskids.de
SUMMARY:Wettlauf zwischen Hase & Igel
DESCRIPTION:Ein Märchen sehr frei nach den Gebrüder Grimm bearbeitet\, für Kinder ab 3 Jahren und einer Dauer von ca. 30 min in der Puppenbühne "Burattino". \nFreund Hase gibt sich als Macho\, denkt es mit jedem aufnehmen zu können und ärgert den Igel solange\, bis dieser einer aussichtslos erscheinenden Wette zustimmt. Nur durch einen Trick gelingt es den Hasen zu überlisten.
URL:https://potskids.de/potsdam-veranstaltung/wettlauf-zw-hase-igel/2026-05-10/
LOCATION:Puppenbühne Burattino\, Rosenstraße 35\, Potsdam\, Brandenburg\, 14482\, Deutschland
CATEGORIES:Dies und Das,Geschichten,Märchen,Puppentheater
ORGANIZER;CN="Puppenb%C3%BChne Burattino":MAILTO:puppenbuehneburattino@web.de
END:VEVENT
BEGIN:VEVENT
DTSTART;TZID=Europe/Berlin:20260516T153000
DTEND;TZID=Europe/Berlin:20260516T160000
DTSTAMP:20260421T150923
CREATED:20260417T204629Z
LAST-MODIFIED:20260418T090445Z
UID:10054673-1778945400-1778947200@potskids.de
SUMMARY:Wettlauf zwischen Hase & Igel
DESCRIPTION:Ein Märchen sehr frei nach den Gebrüder Grimm bearbeitet\, für Kinder ab 3 Jahren und einer Dauer von ca. 30 min in der Puppenbühne "Burattino". \nFreund Hase gibt sich als Macho\, denkt es mit jedem aufnehmen zu können und ärgert den Igel solange\, bis dieser einer aussichtslos erscheinenden Wette zustimmt. Nur durch einen Trick gelingt es den Hasen zu überlisten.
URL:https://potskids.de/potsdam-veranstaltung/wettlauf-zw-hase-igel/2026-05-16/
LOCATION:Puppenbühne Burattino\, Rosenstraße 35\, Potsdam\, Brandenburg\, 14482\, Deutschland
CATEGORIES:Dies und Das,Geschichten,Märchen,Puppentheater
ORGANIZER;CN="Puppenb%C3%BChne Burattino":MAILTO:puppenbuehneburattino@web.de
END:VEVENT
BEGIN:VEVENT
DTSTART;TZID=Europe/Berlin:20260524T153000
DTEND;TZID=Europe/Berlin:20260524T160000
DTSTAMP:20260421T150923
CREATED:20260417T204629Z
LAST-MODIFIED:20260418T090445Z
UID:10054674-1779636600-1779638400@potskids.de
SUMMARY:Wettlauf zwischen Hase & Igel
DESCRIPTION:Ein Märchen sehr frei nach den Gebrüder Grimm bearbeitet\, für Kinder ab 3 Jahren und einer Dauer von ca. 30 min in der Puppenbühne "Burattino". \nFreund Hase gibt sich als Macho\, denkt es mit jedem aufnehmen zu können und ärgert den Igel solange\, bis dieser einer aussichtslos erscheinenden Wette zustimmt. Nur durch einen Trick gelingt es den Hasen zu überlisten.
URL:https://potskids.de/potsdam-veranstaltung/wettlauf-zw-hase-igel/2026-05-24/
LOCATION:Puppenbühne Burattino\, Rosenstraße 35\, Potsdam\, Brandenburg\, 14482\, Deutschland
CATEGORIES:Dies und Das,Geschichten,Märchen,Puppentheater
ORGANIZER;CN="Puppenb%C3%BChne Burattino":MAILTO:puppenbuehneburattino@web.de
END:VEVENT
BEGIN:VEVENT
DTSTART;TZID=Europe/Berlin:20260525T153000
DTEND;TZID=Europe/Berlin:20260525T160000
DTSTAMP:20260421T150923
CREATED:20260417T204629Z
LAST-MODIFIED:20260418T090445Z
UID:10054675-1779723000-1779724800@potskids.de
SUMMARY:Wettlauf zwischen Hase & Igel
DESCRIPTION:Ein Märchen sehr frei nach den Gebrüder Grimm bearbeitet\, für Kinder ab 3 Jahren und einer Dauer von ca. 30 min in der Puppenbühne "Burattino". \nFreund Hase gibt sich als Macho\, denkt es mit jedem aufnehmen zu können und ärgert den Igel solange\, bis dieser einer aussichtslos erscheinenden Wette zustimmt. Nur durch einen Trick gelingt es den Hasen zu überlisten.
URL:https://potskids.de/potsdam-veranstaltung/wettlauf-zw-hase-igel/2026-05-25/
LOCATION:Puppenbühne Burattino\, Rosenstraße 35\, Potsdam\, Brandenburg\, 14482\, Deutschland
CATEGORIES:Dies und Das,Geschichten,Märchen,Puppentheater
ORGANIZER;CN="Puppenb%C3%BChne Burattino":MAILTO:puppenbuehneburattino@web.de
END:VEVENT
BEGIN:VEVENT
DTSTART;TZID=Europe/Berlin:20260530T153000
DTEND;TZID=Europe/Berlin:20260530T160000
DTSTAMP:20260421T150923
CREATED:20260417T204629Z
LAST-MODIFIED:20260418T090445Z
UID:10054676-1780155000-1780156800@potskids.de
SUMMARY:Wettlauf zwischen Hase & Igel
DESCRIPTION:Ein Märchen sehr frei nach den Gebrüder Grimm bearbeitet\, für Kinder ab 3 Jahren und einer Dauer von ca. 30 min in der Puppenbühne "Burattino". \nFreund Hase gibt sich als Macho\, denkt es mit jedem aufnehmen zu können und ärgert den Igel solange\, bis dieser einer aussichtslos erscheinenden Wette zustimmt. Nur durch einen Trick gelingt es den Hasen zu überlisten.
URL:https://potskids.de/potsdam-veranstaltung/wettlauf-zw-hase-igel/2026-05-30/
LOCATION:Puppenbühne Burattino\, Rosenstraße 35\, Potsdam\, Brandenburg\, 14482\, Deutschland
CATEGORIES:Dies und Das,Geschichten,Märchen,Puppentheater
ORGANIZER;CN="Puppenb%C3%BChne Burattino":MAILTO:puppenbuehneburattino@web.de
END:VEVENT
BEGIN:VEVENT
DTSTART;TZID=Europe/Berlin:20260606T153000
DTEND;TZID=Europe/Berlin:20260606T160000
DTSTAMP:20260421T150923
CREATED:20260417T204629Z
LAST-MODIFIED:20260418T090445Z
UID:10054677-1780759800-1780761600@potskids.de
SUMMARY:Wettlauf zwischen Hase & Igel
DESCRIPTION:Ein Märchen sehr frei nach den Gebrüder Grimm bearbeitet\, für Kinder ab 3 Jahren und einer Dauer von ca. 30 min in der Puppenbühne "Burattino". \nFreund Hase gibt sich als Macho\, denkt es mit jedem aufnehmen zu können und ärgert den Igel solange\, bis dieser einer aussichtslos erscheinenden Wette zustimmt. Nur durch einen Trick gelingt es den Hasen zu überlisten.
URL:https://potskids.de/potsdam-veranstaltung/wettlauf-zw-hase-igel/2026-06-06/
LOCATION:Puppenbühne Burattino\, Rosenstraße 35\, Potsdam\, Brandenburg\, 14482\, Deutschland
CATEGORIES:Dies und Das,Geschichten,Märchen,Puppentheater
ORGANIZER;CN="Puppenb%C3%BChne Burattino":MAILTO:puppenbuehneburattino@web.de
END:VEVENT
BEGIN:VEVENT
DTSTART;TZID=Europe/Berlin:20260614T153000
DTEND;TZID=Europe/Berlin:20260614T160000
DTSTAMP:20260421T150923
CREATED:20260417T204629Z
LAST-MODIFIED:20260418T090445Z
UID:10054678-1781451000-1781452800@potskids.de
SUMMARY:Wettlauf zwischen Hase & Igel
DESCRIPTION:Ein Märchen sehr frei nach den Gebrüder Grimm bearbeitet\, für Kinder ab 3 Jahren und einer Dauer von ca. 30 min in der Puppenbühne "Burattino". \nFreund Hase gibt sich als Macho\, denkt es mit jedem aufnehmen zu können und ärgert den Igel solange\, bis dieser einer aussichtslos erscheinenden Wette zustimmt. Nur durch einen Trick gelingt es den Hasen zu überlisten.
URL:https://potskids.de/potsdam-veranstaltung/wettlauf-zw-hase-igel/2026-06-14/
LOCATION:Puppenbühne Burattino\, Rosenstraße 35\, Potsdam\, Brandenburg\, 14482\, Deutschland
CATEGORIES:Dies und Das,Geschichten,Märchen,Puppentheater
ORGANIZER;CN="Puppenb%C3%BChne Burattino":MAILTO:puppenbuehneburattino@web.de
END:VEVENT
BEGIN:VEVENT
DTSTART;TZID=Europe/Berlin:20260620T153000
DTEND;TZID=Europe/Berlin:20260620T160000
DTSTAMP:20260421T150923
CREATED:20260417T204629Z
LAST-MODIFIED:20260418T090445Z
UID:10054679-1781969400-1781971200@potskids.de
SUMMARY:Wettlauf zwischen Hase & Igel
DESCRIPTION:Ein Märchen sehr frei nach den Gebrüder Grimm bearbeitet\, für Kinder ab 3 Jahren und einer Dauer von ca. 30 min in der Puppenbühne "Burattino". \nFreund Hase gibt sich als Macho\, denkt es mit jedem aufnehmen zu können und ärgert den Igel solange\, bis dieser einer aussichtslos erscheinenden Wette zustimmt. Nur durch einen Trick gelingt es den Hasen zu überlisten.
URL:https://potskids.de/potsdam-veranstaltung/wettlauf-zw-hase-igel/2026-06-20/
LOCATION:Puppenbühne Burattino\, Rosenstraße 35\, Potsdam\, Brandenburg\, 14482\, Deutschland
CATEGORIES:Dies und Das,Geschichten,Märchen,Puppentheater
ORGANIZER;CN="Puppenb%C3%BChne Burattino":MAILTO:puppenbuehneburattino@web.de
END:VEVENT
BEGIN:VEVENT
DTSTART;TZID=Europe/Berlin:20260628T153000
DTEND;TZID=Europe/Berlin:20260628T160000
DTSTAMP:20260421T150923
CREATED:20260417T204629Z
LAST-MODIFIED:20260418T090445Z
UID:10054680-1782660600-1782662400@potskids.de
SUMMARY:Wettlauf zwischen Hase & Igel
DESCRIPTION:Ein Märchen sehr frei nach den Gebrüder Grimm bearbeitet\, für Kinder ab 3 Jahren und einer Dauer von ca. 30 min in der Puppenbühne "Burattino". \nFreund Hase gibt sich als Macho\, denkt es mit jedem aufnehmen zu können und ärgert den Igel solange\, bis dieser einer aussichtslos erscheinenden Wette zustimmt. Nur durch einen Trick gelingt es den Hasen zu überlisten.
URL:https://potskids.de/potsdam-veranstaltung/wettlauf-zw-hase-igel/2026-06-28/
LOCATION:Puppenbühne Burattino\, Rosenstraße 35\, Potsdam\, Brandenburg\, 14482\, Deutschland
CATEGORIES:Dies und Das,Geschichten,Märchen,Puppentheater
ORGANIZER;CN="Puppenb%C3%BChne Burattino":MAILTO:puppenbuehneburattino@web.de
END:VEVENT
END:VCALENDAR