BEGIN:VCALENDAR
VERSION:2.0
PRODID:-//PotsKids! - ECPv6.4.0.1//NONSGML v1.0//EN
CALSCALE:GREGORIAN
METHOD:PUBLISH
X-WR-CALNAME:PotsKids!
X-ORIGINAL-URL:https://potskids.de
X-WR-CALDESC:Veranstaltungen für PotsKids!
REFRESH-INTERVAL;VALUE=DURATION:PT1H
X-Robots-Tag:noindex
X-PUBLISHED-TTL:PT1H
BEGIN:VTIMEZONE
TZID:Europe/Berlin
BEGIN:DAYLIGHT
TZOFFSETFROM:+0100
TZOFFSETTO:+0200
TZNAME:CEST
DTSTART:20260329T010000
END:DAYLIGHT
BEGIN:STANDARD
TZOFFSETFROM:+0200
TZOFFSETTO:+0100
TZNAME:CET
DTSTART:20261025T010000
END:STANDARD
END:VTIMEZONE
BEGIN:VEVENT
DTSTART;TZID=Europe/Berlin:20260503T153000
DTEND;TZID=Europe/Berlin:20260503T160000
DTSTAMP:20260423T125409
CREATED:20260418T090908Z
LAST-MODIFIED:20260418T090908Z
UID:10054681-1777822200-1777824000@potskids.de
SUMMARY:Die 3 kleinen Schweinchen
DESCRIPTION:Ein Märchen frei bearbeitet für Kinder ab drei Jahren an und einer Dauer von ca. 30 min in der Puppenbühne "Burattino". \nDrei verspielte Geschwister bauen sich jeder ein eigenes Haus. Drei verschiedene Temperamente\, drei verschiedene Häuser...\, und der Wolf wittert den „Braten“. Bei zwei kleinen Schweinchen hat er beinahe Glück\, doch das dritte bringt ihn zum „Platzen“.
URL:https://potskids.de/potsdam-veranstaltung/die-3-kleinen-schweinchen-2-2/
LOCATION:Puppenbühne Burattino\, Rosenstraße 35\, Potsdam\, Brandenburg\, 14482\, Deutschland
CATEGORIES:Familie,Märchen,Puppentheater
ORGANIZER;CN="Puppenb%C3%BChne Burattino":MAILTO:puppenbuehneburattino@web.de
END:VEVENT
BEGIN:VEVENT
DTSTART;TZID=Europe/Berlin:20260509T153000
DTEND;TZID=Europe/Berlin:20260509T160000
DTSTAMP:20260423T125409
CREATED:20260417T205016Z
LAST-MODIFIED:20260418T090859Z
UID:10054682-1778340600-1778342400@potskids.de
SUMMARY:Die 3 kleinen Schweinchen
DESCRIPTION:Ein Märchen frei bearbeitet für Kinder ab drei Jahren an und einer Dauer von ca. 30 min in der Puppenbühne "Burattino". \nDrei verspielte Geschwister bauen sich jeder ein eigenes Haus. Drei verschiedene Temperamente\, drei verschiedene Häuser...\, und der Wolf wittert den „Braten“. Bei zwei kleinen Schweinchen hat er beinahe Glück\, doch das dritte bringt ihn zum „Platzen“.
URL:https://potskids.de/potsdam-veranstaltung/die-3-kleinen-schweinchen-2/2026-05-09/
LOCATION:Puppenbühne Burattino\, Rosenstraße 35\, Potsdam\, Brandenburg\, 14482\, Deutschland
CATEGORIES:Familie,Märchen,Puppentheater
ORGANIZER;CN="Puppenb%C3%BChne Burattino":MAILTO:puppenbuehneburattino@web.de
END:VEVENT
BEGIN:VEVENT
DTSTART;TZID=Europe/Berlin:20260517T153000
DTEND;TZID=Europe/Berlin:20260517T160000
DTSTAMP:20260423T125409
CREATED:20260417T205016Z
LAST-MODIFIED:20260418T090859Z
UID:10054683-1779031800-1779033600@potskids.de
SUMMARY:Die 3 kleinen Schweinchen
DESCRIPTION:Ein Märchen frei bearbeitet für Kinder ab drei Jahren an und einer Dauer von ca. 30 min in der Puppenbühne "Burattino". \nDrei verspielte Geschwister bauen sich jeder ein eigenes Haus. Drei verschiedene Temperamente\, drei verschiedene Häuser...\, und der Wolf wittert den „Braten“. Bei zwei kleinen Schweinchen hat er beinahe Glück\, doch das dritte bringt ihn zum „Platzen“.
URL:https://potskids.de/potsdam-veranstaltung/die-3-kleinen-schweinchen-2/2026-05-17/
LOCATION:Puppenbühne Burattino\, Rosenstraße 35\, Potsdam\, Brandenburg\, 14482\, Deutschland
CATEGORIES:Familie,Märchen,Puppentheater
ORGANIZER;CN="Puppenb%C3%BChne Burattino":MAILTO:puppenbuehneburattino@web.de
END:VEVENT
BEGIN:VEVENT
DTSTART;TZID=Europe/Berlin:20260523T153000
DTEND;TZID=Europe/Berlin:20260523T160000
DTSTAMP:20260423T125409
CREATED:20260417T205016Z
LAST-MODIFIED:20260418T090859Z
UID:10054684-1779550200-1779552000@potskids.de
SUMMARY:Die 3 kleinen Schweinchen
DESCRIPTION:Ein Märchen frei bearbeitet für Kinder ab drei Jahren an und einer Dauer von ca. 30 min in der Puppenbühne "Burattino". \nDrei verspielte Geschwister bauen sich jeder ein eigenes Haus. Drei verschiedene Temperamente\, drei verschiedene Häuser...\, und der Wolf wittert den „Braten“. Bei zwei kleinen Schweinchen hat er beinahe Glück\, doch das dritte bringt ihn zum „Platzen“.
URL:https://potskids.de/potsdam-veranstaltung/die-3-kleinen-schweinchen-2/2026-05-23/
LOCATION:Puppenbühne Burattino\, Rosenstraße 35\, Potsdam\, Brandenburg\, 14482\, Deutschland
CATEGORIES:Familie,Märchen,Puppentheater
ORGANIZER;CN="Puppenb%C3%BChne Burattino":MAILTO:puppenbuehneburattino@web.de
END:VEVENT
BEGIN:VEVENT
DTSTART;TZID=Europe/Berlin:20260531T153000
DTEND;TZID=Europe/Berlin:20260531T160000
DTSTAMP:20260423T125409
CREATED:20260417T205016Z
LAST-MODIFIED:20260418T090859Z
UID:10054685-1780241400-1780243200@potskids.de
SUMMARY:Die 3 kleinen Schweinchen
DESCRIPTION:Ein Märchen frei bearbeitet für Kinder ab drei Jahren an und einer Dauer von ca. 30 min in der Puppenbühne "Burattino". \nDrei verspielte Geschwister bauen sich jeder ein eigenes Haus. Drei verschiedene Temperamente\, drei verschiedene Häuser...\, und der Wolf wittert den „Braten“. Bei zwei kleinen Schweinchen hat er beinahe Glück\, doch das dritte bringt ihn zum „Platzen“.
URL:https://potskids.de/potsdam-veranstaltung/die-3-kleinen-schweinchen-2/2026-05-31/
LOCATION:Puppenbühne Burattino\, Rosenstraße 35\, Potsdam\, Brandenburg\, 14482\, Deutschland
CATEGORIES:Familie,Märchen,Puppentheater
ORGANIZER;CN="Puppenb%C3%BChne Burattino":MAILTO:puppenbuehneburattino@web.de
END:VEVENT
BEGIN:VEVENT
DTSTART;TZID=Europe/Berlin:20260607T153000
DTEND;TZID=Europe/Berlin:20260607T160000
DTSTAMP:20260423T125409
CREATED:20260417T205016Z
LAST-MODIFIED:20260418T090859Z
UID:10054686-1780846200-1780848000@potskids.de
SUMMARY:Die 3 kleinen Schweinchen
DESCRIPTION:Ein Märchen frei bearbeitet für Kinder ab drei Jahren an und einer Dauer von ca. 30 min in der Puppenbühne "Burattino". \nDrei verspielte Geschwister bauen sich jeder ein eigenes Haus. Drei verschiedene Temperamente\, drei verschiedene Häuser...\, und der Wolf wittert den „Braten“. Bei zwei kleinen Schweinchen hat er beinahe Glück\, doch das dritte bringt ihn zum „Platzen“.
URL:https://potskids.de/potsdam-veranstaltung/die-3-kleinen-schweinchen-2/2026-06-07/
LOCATION:Puppenbühne Burattino\, Rosenstraße 35\, Potsdam\, Brandenburg\, 14482\, Deutschland
CATEGORIES:Familie,Märchen,Puppentheater
ORGANIZER;CN="Puppenb%C3%BChne Burattino":MAILTO:puppenbuehneburattino@web.de
END:VEVENT
BEGIN:VEVENT
DTSTART;TZID=Europe/Berlin:20260613T153000
DTEND;TZID=Europe/Berlin:20260613T160000
DTSTAMP:20260423T125409
CREATED:20260417T205016Z
LAST-MODIFIED:20260418T090859Z
UID:10054687-1781364600-1781366400@potskids.de
SUMMARY:Die 3 kleinen Schweinchen
DESCRIPTION:Ein Märchen frei bearbeitet für Kinder ab drei Jahren an und einer Dauer von ca. 30 min in der Puppenbühne "Burattino". \nDrei verspielte Geschwister bauen sich jeder ein eigenes Haus. Drei verschiedene Temperamente\, drei verschiedene Häuser...\, und der Wolf wittert den „Braten“. Bei zwei kleinen Schweinchen hat er beinahe Glück\, doch das dritte bringt ihn zum „Platzen“.
URL:https://potskids.de/potsdam-veranstaltung/die-3-kleinen-schweinchen-2/2026-06-13/
LOCATION:Puppenbühne Burattino\, Rosenstraße 35\, Potsdam\, Brandenburg\, 14482\, Deutschland
CATEGORIES:Familie,Märchen,Puppentheater
ORGANIZER;CN="Puppenb%C3%BChne Burattino":MAILTO:puppenbuehneburattino@web.de
END:VEVENT
BEGIN:VEVENT
DTSTART;TZID=Europe/Berlin:20260621T153000
DTEND;TZID=Europe/Berlin:20260621T160000
DTSTAMP:20260423T125409
CREATED:20260417T205016Z
LAST-MODIFIED:20260418T090859Z
UID:10054688-1782055800-1782057600@potskids.de
SUMMARY:Die 3 kleinen Schweinchen
DESCRIPTION:Ein Märchen frei bearbeitet für Kinder ab drei Jahren an und einer Dauer von ca. 30 min in der Puppenbühne "Burattino". \nDrei verspielte Geschwister bauen sich jeder ein eigenes Haus. Drei verschiedene Temperamente\, drei verschiedene Häuser...\, und der Wolf wittert den „Braten“. Bei zwei kleinen Schweinchen hat er beinahe Glück\, doch das dritte bringt ihn zum „Platzen“.
URL:https://potskids.de/potsdam-veranstaltung/die-3-kleinen-schweinchen-2/2026-06-21/
LOCATION:Puppenbühne Burattino\, Rosenstraße 35\, Potsdam\, Brandenburg\, 14482\, Deutschland
CATEGORIES:Familie,Märchen,Puppentheater
ORGANIZER;CN="Puppenb%C3%BChne Burattino":MAILTO:puppenbuehneburattino@web.de
END:VEVENT
BEGIN:VEVENT
DTSTART;TZID=Europe/Berlin:20260627T153000
DTEND;TZID=Europe/Berlin:20260627T160000
DTSTAMP:20260423T125409
CREATED:20260417T205016Z
LAST-MODIFIED:20260418T090859Z
UID:10054689-1782574200-1782576000@potskids.de
SUMMARY:Die 3 kleinen Schweinchen
DESCRIPTION:Ein Märchen frei bearbeitet für Kinder ab drei Jahren an und einer Dauer von ca. 30 min in der Puppenbühne "Burattino". \nDrei verspielte Geschwister bauen sich jeder ein eigenes Haus. Drei verschiedene Temperamente\, drei verschiedene Häuser...\, und der Wolf wittert den „Braten“. Bei zwei kleinen Schweinchen hat er beinahe Glück\, doch das dritte bringt ihn zum „Platzen“.
URL:https://potskids.de/potsdam-veranstaltung/die-3-kleinen-schweinchen-2/2026-06-27/
LOCATION:Puppenbühne Burattino\, Rosenstraße 35\, Potsdam\, Brandenburg\, 14482\, Deutschland
CATEGORIES:Familie,Märchen,Puppentheater
ORGANIZER;CN="Puppenb%C3%BChne Burattino":MAILTO:puppenbuehneburattino@web.de
END:VEVENT
END:VCALENDAR