BEGIN:VCALENDAR
VERSION:2.0
PRODID:-//PotsKids! - ECPv6.4.0.1//NONSGML v1.0//EN
CALSCALE:GREGORIAN
METHOD:PUBLISH
X-WR-CALNAME:PotsKids!
X-ORIGINAL-URL:https://potskids.de
X-WR-CALDESC:Veranstaltungen für PotsKids!
REFRESH-INTERVAL;VALUE=DURATION:PT1H
X-Robots-Tag:noindex
X-PUBLISHED-TTL:PT1H
BEGIN:VTIMEZONE
TZID:Europe/Berlin
BEGIN:DAYLIGHT
TZOFFSETFROM:+0100
TZOFFSETTO:+0200
TZNAME:CEST
DTSTART:20260329T010000
END:DAYLIGHT
BEGIN:STANDARD
TZOFFSETFROM:+0200
TZOFFSETTO:+0100
TZNAME:CET
DTSTART:20261025T010000
END:STANDARD
END:VTIMEZONE
BEGIN:VEVENT
DTSTART;TZID=Europe/Berlin:20260517T140000
DTEND;TZID=Europe/Berlin:20260517T170000
DTSTAMP:20260423T163800
CREATED:20260417T222336Z
LAST-MODIFIED:20260417T222436Z
UID:10054714-1779026400-1779037200@potskids.de
SUMMARY:Family Sunday for Future: Recycling-Projekte
DESCRIPTION:Täglich wird jede Menge Müll produziert. Komplett vermeiden geht (noch) nicht. Was geht: Nicht alles wegwerfen\, sondern etwas Neues und Kreatives daraus gestalten! Material ist vorhanden oder kann gerne (gesäubert) mitgebracht werden. \nJeder Monat steht unter einem anderen Motto. Lasst eurer Fantasie freien Lauf – für eine saubere Umwelt! \nJeden 3. Sonntag im Monat\, für Kinder ab 4 Jahren im Museum für Kommunikation Berlin.
URL:https://potskids.de/potsdam-veranstaltung/family-sunday-for-future-future-recycling-fahrrad-reflektoren/2026-05-17/
LOCATION:Museum für Kommunikation Berlin\, Leipziger Straße 16\, Berlin\, Berlin\, 10117\, Deutschland
CATEGORIES:Basteln,Engagement,Familie,Kreativität
ORGANIZER;CN="Museum f%C3%BCr Kommunikation Berlin":MAILTO:mfk-berlin@mspt.de
END:VEVENT
BEGIN:VEVENT
DTSTART;TZID=Europe/Berlin:20260621T140000
DTEND;TZID=Europe/Berlin:20260621T170000
DTSTAMP:20260423T163800
CREATED:20260417T222336Z
LAST-MODIFIED:20260417T222436Z
UID:10054715-1782050400-1782061200@potskids.de
SUMMARY:Family Sunday for Future: Recycling-Projekte
DESCRIPTION:Täglich wird jede Menge Müll produziert. Komplett vermeiden geht (noch) nicht. Was geht: Nicht alles wegwerfen\, sondern etwas Neues und Kreatives daraus gestalten! Material ist vorhanden oder kann gerne (gesäubert) mitgebracht werden. \nJeder Monat steht unter einem anderen Motto. Lasst eurer Fantasie freien Lauf – für eine saubere Umwelt! \nJeden 3. Sonntag im Monat\, für Kinder ab 4 Jahren im Museum für Kommunikation Berlin.
URL:https://potskids.de/potsdam-veranstaltung/family-sunday-for-future-future-recycling-fahrrad-reflektoren/2026-06-21/
LOCATION:Museum für Kommunikation Berlin\, Leipziger Straße 16\, Berlin\, Berlin\, 10117\, Deutschland
CATEGORIES:Basteln,Engagement,Familie,Kreativität
ORGANIZER;CN="Museum f%C3%BCr Kommunikation Berlin":MAILTO:mfk-berlin@mspt.de
END:VEVENT
END:VCALENDAR