BEGIN:VCALENDAR
VERSION:2.0
PRODID:-//PotsKids! - ECPv6.4.0.1//NONSGML v1.0//EN
CALSCALE:GREGORIAN
METHOD:PUBLISH
X-ORIGINAL-URL:https://potskids.de
X-WR-CALDESC:Veranstaltungen für PotsKids!
REFRESH-INTERVAL;VALUE=DURATION:PT1H
X-Robots-Tag:noindex
X-PUBLISHED-TTL:PT1H
BEGIN:VTIMEZONE
TZID:Europe/Berlin
BEGIN:DAYLIGHT
TZOFFSETFROM:+0100
TZOFFSETTO:+0200
TZNAME:CEST
DTSTART:20260329T010000
END:DAYLIGHT
BEGIN:STANDARD
TZOFFSETFROM:+0200
TZOFFSETTO:+0100
TZNAME:CET
DTSTART:20261025T010000
END:STANDARD
END:VTIMEZONE
BEGIN:VEVENT
DTSTART;TZID=Europe/Berlin:20260422T140000
DTEND;TZID=Europe/Berlin:20260422T180000
DTSTAMP:20260421T025008
CREATED:20260214T144224Z
LAST-MODIFIED:20260415T185040Z
UID:10051190-1776866400-1776880800@potskids.de
SUMMARY:Blauer Daumen Mittwoch
DESCRIPTION:Hüttenbau sowie Basteln an Werkbänken nach eigenen Ideen mit Holz und Ytong\, außerdem Gestaltung von Hochbeeten etc. unter pädagogischer und handwerklicher Anleitung; Nutzung verschiedener Spielgeräte\, Kletterhaus\, Torwand\, Rutschen und Fahrradwerkstatt; Einradfahren lernen; Stockbrot am Feuer und vieles mehr. \nGeburtstagsfeiern sowie Gruppenangebote (vormittags sowie Fr. und Sa. auch nachmittags) für Schule\, Hort und Kita – nach Vereinbarung. \n\n\nFür Kinder ab 8 Jahren auf dem Abenteuerspielplatz Blauer Daumen.
URL:https://potskids.de/potsdam-veranstaltung/blauer-daumen-mittwoch-2/2026-04-22/
LOCATION:Abenteuerspielplatz „Blauer Daumen“\, Steinstraße/ In der Aue 63\, Potsdam\, Brandenburg\, 14480\, Deutschland
CATEGORIES:Spiel und Spaß
ORGANIZER;CN="Abenteuerspielplatz %E2%80%9EBlauer Daumen%E2%80%9C":MAILTO:fibian@abenteuerspielplatz-potsdam.de
END:VEVENT
BEGIN:VEVENT
DTSTART;TZID=Europe/Berlin:20260429T140000
DTEND;TZID=Europe/Berlin:20260429T180000
DTSTAMP:20260421T025008
CREATED:20260214T144224Z
LAST-MODIFIED:20260415T185040Z
UID:10051191-1777471200-1777485600@potskids.de
SUMMARY:Blauer Daumen Mittwoch
DESCRIPTION:Hüttenbau sowie Basteln an Werkbänken nach eigenen Ideen mit Holz und Ytong\, außerdem Gestaltung von Hochbeeten etc. unter pädagogischer und handwerklicher Anleitung; Nutzung verschiedener Spielgeräte\, Kletterhaus\, Torwand\, Rutschen und Fahrradwerkstatt; Einradfahren lernen; Stockbrot am Feuer und vieles mehr. \nGeburtstagsfeiern sowie Gruppenangebote (vormittags sowie Fr. und Sa. auch nachmittags) für Schule\, Hort und Kita – nach Vereinbarung. \n\n\nFür Kinder ab 8 Jahren auf dem Abenteuerspielplatz Blauer Daumen.
URL:https://potskids.de/potsdam-veranstaltung/blauer-daumen-mittwoch-2/2026-04-29/
LOCATION:Abenteuerspielplatz „Blauer Daumen“\, Steinstraße/ In der Aue 63\, Potsdam\, Brandenburg\, 14480\, Deutschland
CATEGORIES:Spiel und Spaß
ORGANIZER;CN="Abenteuerspielplatz %E2%80%9EBlauer Daumen%E2%80%9C":MAILTO:fibian@abenteuerspielplatz-potsdam.de
END:VEVENT
BEGIN:VEVENT
DTSTART;TZID=Europe/Berlin:20260506T140000
DTEND;TZID=Europe/Berlin:20260506T180000
DTSTAMP:20260421T025008
CREATED:20260214T144224Z
LAST-MODIFIED:20260415T185040Z
UID:10054503-1778076000-1778090400@potskids.de
SUMMARY:Blauer Daumen Mittwoch
DESCRIPTION:Hüttenbau sowie Basteln an Werkbänken nach eigenen Ideen mit Holz und Ytong\, außerdem Gestaltung von Hochbeeten etc. unter pädagogischer und handwerklicher Anleitung; Nutzung verschiedener Spielgeräte\, Kletterhaus\, Torwand\, Rutschen und Fahrradwerkstatt; Einradfahren lernen; Stockbrot am Feuer und vieles mehr. \nGeburtstagsfeiern sowie Gruppenangebote (vormittags sowie Fr. und Sa. auch nachmittags) für Schule\, Hort und Kita – nach Vereinbarung. \n\n\nFür Kinder ab 8 Jahren auf dem Abenteuerspielplatz Blauer Daumen.
URL:https://potskids.de/potsdam-veranstaltung/blauer-daumen-mittwoch-2/2026-05-06/
LOCATION:Abenteuerspielplatz „Blauer Daumen“\, Steinstraße/ In der Aue 63\, Potsdam\, Brandenburg\, 14480\, Deutschland
CATEGORIES:Spiel und Spaß
ORGANIZER;CN="Abenteuerspielplatz %E2%80%9EBlauer Daumen%E2%80%9C":MAILTO:fibian@abenteuerspielplatz-potsdam.de
END:VEVENT
BEGIN:VEVENT
DTSTART;TZID=Europe/Berlin:20260513T140000
DTEND;TZID=Europe/Berlin:20260513T180000
DTSTAMP:20260421T025008
CREATED:20260214T144224Z
LAST-MODIFIED:20260415T185040Z
UID:10054504-1778680800-1778695200@potskids.de
SUMMARY:Blauer Daumen Mittwoch
DESCRIPTION:Hüttenbau sowie Basteln an Werkbänken nach eigenen Ideen mit Holz und Ytong\, außerdem Gestaltung von Hochbeeten etc. unter pädagogischer und handwerklicher Anleitung; Nutzung verschiedener Spielgeräte\, Kletterhaus\, Torwand\, Rutschen und Fahrradwerkstatt; Einradfahren lernen; Stockbrot am Feuer und vieles mehr. \nGeburtstagsfeiern sowie Gruppenangebote (vormittags sowie Fr. und Sa. auch nachmittags) für Schule\, Hort und Kita – nach Vereinbarung. \n\n\nFür Kinder ab 8 Jahren auf dem Abenteuerspielplatz Blauer Daumen.
URL:https://potskids.de/potsdam-veranstaltung/blauer-daumen-mittwoch-2/2026-05-13/
LOCATION:Abenteuerspielplatz „Blauer Daumen“\, Steinstraße/ In der Aue 63\, Potsdam\, Brandenburg\, 14480\, Deutschland
CATEGORIES:Spiel und Spaß
ORGANIZER;CN="Abenteuerspielplatz %E2%80%9EBlauer Daumen%E2%80%9C":MAILTO:fibian@abenteuerspielplatz-potsdam.de
END:VEVENT
BEGIN:VEVENT
DTSTART;TZID=Europe/Berlin:20260520T140000
DTEND;TZID=Europe/Berlin:20260520T180000
DTSTAMP:20260421T025008
CREATED:20260214T144224Z
LAST-MODIFIED:20260415T185040Z
UID:10054505-1779285600-1779300000@potskids.de
SUMMARY:Blauer Daumen Mittwoch
DESCRIPTION:Hüttenbau sowie Basteln an Werkbänken nach eigenen Ideen mit Holz und Ytong\, außerdem Gestaltung von Hochbeeten etc. unter pädagogischer und handwerklicher Anleitung; Nutzung verschiedener Spielgeräte\, Kletterhaus\, Torwand\, Rutschen und Fahrradwerkstatt; Einradfahren lernen; Stockbrot am Feuer und vieles mehr. \nGeburtstagsfeiern sowie Gruppenangebote (vormittags sowie Fr. und Sa. auch nachmittags) für Schule\, Hort und Kita – nach Vereinbarung. \n\n\nFür Kinder ab 8 Jahren auf dem Abenteuerspielplatz Blauer Daumen.
URL:https://potskids.de/potsdam-veranstaltung/blauer-daumen-mittwoch-2/2026-05-20/
LOCATION:Abenteuerspielplatz „Blauer Daumen“\, Steinstraße/ In der Aue 63\, Potsdam\, Brandenburg\, 14480\, Deutschland
CATEGORIES:Spiel und Spaß
ORGANIZER;CN="Abenteuerspielplatz %E2%80%9EBlauer Daumen%E2%80%9C":MAILTO:fibian@abenteuerspielplatz-potsdam.de
END:VEVENT
BEGIN:VEVENT
DTSTART;TZID=Europe/Berlin:20260527T140000
DTEND;TZID=Europe/Berlin:20260527T180000
DTSTAMP:20260421T025008
CREATED:20260214T144224Z
LAST-MODIFIED:20260415T185040Z
UID:10054506-1779890400-1779904800@potskids.de
SUMMARY:Blauer Daumen Mittwoch
DESCRIPTION:Hüttenbau sowie Basteln an Werkbänken nach eigenen Ideen mit Holz und Ytong\, außerdem Gestaltung von Hochbeeten etc. unter pädagogischer und handwerklicher Anleitung; Nutzung verschiedener Spielgeräte\, Kletterhaus\, Torwand\, Rutschen und Fahrradwerkstatt; Einradfahren lernen; Stockbrot am Feuer und vieles mehr. \nGeburtstagsfeiern sowie Gruppenangebote (vormittags sowie Fr. und Sa. auch nachmittags) für Schule\, Hort und Kita – nach Vereinbarung. \n\n\nFür Kinder ab 8 Jahren auf dem Abenteuerspielplatz Blauer Daumen.
URL:https://potskids.de/potsdam-veranstaltung/blauer-daumen-mittwoch-2/2026-05-27/
LOCATION:Abenteuerspielplatz „Blauer Daumen“\, Steinstraße/ In der Aue 63\, Potsdam\, Brandenburg\, 14480\, Deutschland
CATEGORIES:Spiel und Spaß
ORGANIZER;CN="Abenteuerspielplatz %E2%80%9EBlauer Daumen%E2%80%9C":MAILTO:fibian@abenteuerspielplatz-potsdam.de
END:VEVENT
BEGIN:VEVENT
DTSTART;TZID=Europe/Berlin:20260603T140000
DTEND;TZID=Europe/Berlin:20260603T180000
DTSTAMP:20260421T025008
CREATED:20260214T144224Z
LAST-MODIFIED:20260415T185040Z
UID:10054525-1780495200-1780509600@potskids.de
SUMMARY:Blauer Daumen Mittwoch
DESCRIPTION:Hüttenbau sowie Basteln an Werkbänken nach eigenen Ideen mit Holz und Ytong\, außerdem Gestaltung von Hochbeeten etc. unter pädagogischer und handwerklicher Anleitung; Nutzung verschiedener Spielgeräte\, Kletterhaus\, Torwand\, Rutschen und Fahrradwerkstatt; Einradfahren lernen; Stockbrot am Feuer und vieles mehr. \nGeburtstagsfeiern sowie Gruppenangebote (vormittags sowie Fr. und Sa. auch nachmittags) für Schule\, Hort und Kita – nach Vereinbarung. \n\n\nFür Kinder ab 8 Jahren auf dem Abenteuerspielplatz Blauer Daumen.
URL:https://potskids.de/potsdam-veranstaltung/blauer-daumen-mittwoch-2/2026-06-03/
LOCATION:Abenteuerspielplatz „Blauer Daumen“\, Steinstraße/ In der Aue 63\, Potsdam\, Brandenburg\, 14480\, Deutschland
CATEGORIES:Spiel und Spaß
ORGANIZER;CN="Abenteuerspielplatz %E2%80%9EBlauer Daumen%E2%80%9C":MAILTO:fibian@abenteuerspielplatz-potsdam.de
END:VEVENT
BEGIN:VEVENT
DTSTART;TZID=Europe/Berlin:20260610T140000
DTEND;TZID=Europe/Berlin:20260610T180000
DTSTAMP:20260421T025008
CREATED:20260214T144224Z
LAST-MODIFIED:20260415T185040Z
UID:10054526-1781100000-1781114400@potskids.de
SUMMARY:Blauer Daumen Mittwoch
DESCRIPTION:Hüttenbau sowie Basteln an Werkbänken nach eigenen Ideen mit Holz und Ytong\, außerdem Gestaltung von Hochbeeten etc. unter pädagogischer und handwerklicher Anleitung; Nutzung verschiedener Spielgeräte\, Kletterhaus\, Torwand\, Rutschen und Fahrradwerkstatt; Einradfahren lernen; Stockbrot am Feuer und vieles mehr. \nGeburtstagsfeiern sowie Gruppenangebote (vormittags sowie Fr. und Sa. auch nachmittags) für Schule\, Hort und Kita – nach Vereinbarung. \n\n\nFür Kinder ab 8 Jahren auf dem Abenteuerspielplatz Blauer Daumen.
URL:https://potskids.de/potsdam-veranstaltung/blauer-daumen-mittwoch-2/2026-06-10/
LOCATION:Abenteuerspielplatz „Blauer Daumen“\, Steinstraße/ In der Aue 63\, Potsdam\, Brandenburg\, 14480\, Deutschland
CATEGORIES:Spiel und Spaß
ORGANIZER;CN="Abenteuerspielplatz %E2%80%9EBlauer Daumen%E2%80%9C":MAILTO:fibian@abenteuerspielplatz-potsdam.de
END:VEVENT
BEGIN:VEVENT
DTSTART;TZID=Europe/Berlin:20260617T140000
DTEND;TZID=Europe/Berlin:20260617T180000
DTSTAMP:20260421T025008
CREATED:20260214T144224Z
LAST-MODIFIED:20260415T185040Z
UID:10054527-1781704800-1781719200@potskids.de
SUMMARY:Blauer Daumen Mittwoch
DESCRIPTION:Hüttenbau sowie Basteln an Werkbänken nach eigenen Ideen mit Holz und Ytong\, außerdem Gestaltung von Hochbeeten etc. unter pädagogischer und handwerklicher Anleitung; Nutzung verschiedener Spielgeräte\, Kletterhaus\, Torwand\, Rutschen und Fahrradwerkstatt; Einradfahren lernen; Stockbrot am Feuer und vieles mehr. \nGeburtstagsfeiern sowie Gruppenangebote (vormittags sowie Fr. und Sa. auch nachmittags) für Schule\, Hort und Kita – nach Vereinbarung. \n\n\nFür Kinder ab 8 Jahren auf dem Abenteuerspielplatz Blauer Daumen.
URL:https://potskids.de/potsdam-veranstaltung/blauer-daumen-mittwoch-2/2026-06-17/
LOCATION:Abenteuerspielplatz „Blauer Daumen“\, Steinstraße/ In der Aue 63\, Potsdam\, Brandenburg\, 14480\, Deutschland
CATEGORIES:Spiel und Spaß
ORGANIZER;CN="Abenteuerspielplatz %E2%80%9EBlauer Daumen%E2%80%9C":MAILTO:fibian@abenteuerspielplatz-potsdam.de
END:VEVENT
BEGIN:VEVENT
DTSTART;TZID=Europe/Berlin:20260624T140000
DTEND;TZID=Europe/Berlin:20260624T180000
DTSTAMP:20260421T025008
CREATED:20260214T144224Z
LAST-MODIFIED:20260415T185040Z
UID:10054528-1782309600-1782324000@potskids.de
SUMMARY:Blauer Daumen Mittwoch
DESCRIPTION:Hüttenbau sowie Basteln an Werkbänken nach eigenen Ideen mit Holz und Ytong\, außerdem Gestaltung von Hochbeeten etc. unter pädagogischer und handwerklicher Anleitung; Nutzung verschiedener Spielgeräte\, Kletterhaus\, Torwand\, Rutschen und Fahrradwerkstatt; Einradfahren lernen; Stockbrot am Feuer und vieles mehr. \nGeburtstagsfeiern sowie Gruppenangebote (vormittags sowie Fr. und Sa. auch nachmittags) für Schule\, Hort und Kita – nach Vereinbarung. \n\n\nFür Kinder ab 8 Jahren auf dem Abenteuerspielplatz Blauer Daumen.
URL:https://potskids.de/potsdam-veranstaltung/blauer-daumen-mittwoch-2/2026-06-24/
LOCATION:Abenteuerspielplatz „Blauer Daumen“\, Steinstraße/ In der Aue 63\, Potsdam\, Brandenburg\, 14480\, Deutschland
CATEGORIES:Spiel und Spaß
ORGANIZER;CN="Abenteuerspielplatz %E2%80%9EBlauer Daumen%E2%80%9C":MAILTO:fibian@abenteuerspielplatz-potsdam.de
END:VEVENT
END:VCALENDAR