BEGIN:VCALENDAR
VERSION:2.0
PRODID:-//PotsKids! - ECPv6.4.0.1//NONSGML v1.0//EN
CALSCALE:GREGORIAN
METHOD:PUBLISH
X-ORIGINAL-URL:https://potskids.de
X-WR-CALDESC:Veranstaltungen für PotsKids!
REFRESH-INTERVAL;VALUE=DURATION:PT1H
X-Robots-Tag:noindex
X-PUBLISHED-TTL:PT1H
BEGIN:VTIMEZONE
TZID:Europe/Berlin
BEGIN:DAYLIGHT
TZOFFSETFROM:+0100
TZOFFSETTO:+0200
TZNAME:CEST
DTSTART:20260329T010000
END:DAYLIGHT
BEGIN:STANDARD
TZOFFSETFROM:+0200
TZOFFSETTO:+0100
TZNAME:CET
DTSTART:20261025T010000
END:STANDARD
END:VTIMEZONE
BEGIN:VEVENT
DTSTART;TZID=Europe/Berlin:20260423T140000
DTEND;TZID=Europe/Berlin:20260423T180000
DTSTAMP:20260421T151443
CREATED:20260214T144502Z
LAST-MODIFIED:20260415T185118Z
UID:10051195-1776952800-1776967200@potskids.de
SUMMARY:Blauer Daumen Donnerstag
DESCRIPTION:Hüttenbau sowie Basteln an Werkbänken nach eigenen Ideen mit Holz und Ytong\, außerdem Gestaltung von Hochbeeten etc. unter pädagogischer und handwerklicher Anleitung; Nutzung verschiedener Spielgeräte\, Kletterhaus\, Torwand\, Rutschen und Fahrradwerkstatt; Einradfahren lernen; Stockbrot am Feuer und vieles mehr. \nGeburtstagsfeiern sowie Gruppenangebote (vormittags sowie Fr. und Sa. auch nachmittags) für Schule\, Hort und Kita – nach Vereinbarung. \nZusatzangebot von 15 - 18 Uhr: Freiluftküche - Gemeinsames Kochen und Speisen. \n\n\nFür Kinder ab 8 Jahren auf dem Abenteuerspielplatz Blauer Daumen.
URL:https://potskids.de/potsdam-veranstaltung/blauer-daumen-donnerstag-2/2026-04-23/
LOCATION:Abenteuerspielplatz „Blauer Daumen“\, Steinstraße/ In der Aue 63\, Potsdam\, Brandenburg\, 14480\, Deutschland
CATEGORIES:Spiel und Spaß
ORGANIZER;CN="Abenteuerspielplatz %E2%80%9EBlauer Daumen%E2%80%9C":MAILTO:fibian@abenteuerspielplatz-potsdam.de
END:VEVENT
BEGIN:VEVENT
DTSTART;TZID=Europe/Berlin:20260430T140000
DTEND;TZID=Europe/Berlin:20260430T180000
DTSTAMP:20260421T151443
CREATED:20260214T144502Z
LAST-MODIFIED:20260415T185118Z
UID:10051196-1777557600-1777572000@potskids.de
SUMMARY:Blauer Daumen Donnerstag
DESCRIPTION:Hüttenbau sowie Basteln an Werkbänken nach eigenen Ideen mit Holz und Ytong\, außerdem Gestaltung von Hochbeeten etc. unter pädagogischer und handwerklicher Anleitung; Nutzung verschiedener Spielgeräte\, Kletterhaus\, Torwand\, Rutschen und Fahrradwerkstatt; Einradfahren lernen; Stockbrot am Feuer und vieles mehr. \nGeburtstagsfeiern sowie Gruppenangebote (vormittags sowie Fr. und Sa. auch nachmittags) für Schule\, Hort und Kita – nach Vereinbarung. \nZusatzangebot von 15 - 18 Uhr: Freiluftküche - Gemeinsames Kochen und Speisen. \n\n\nFür Kinder ab 8 Jahren auf dem Abenteuerspielplatz Blauer Daumen.
URL:https://potskids.de/potsdam-veranstaltung/blauer-daumen-donnerstag-2/2026-04-30/
LOCATION:Abenteuerspielplatz „Blauer Daumen“\, Steinstraße/ In der Aue 63\, Potsdam\, Brandenburg\, 14480\, Deutschland
CATEGORIES:Spiel und Spaß
ORGANIZER;CN="Abenteuerspielplatz %E2%80%9EBlauer Daumen%E2%80%9C":MAILTO:fibian@abenteuerspielplatz-potsdam.de
END:VEVENT
BEGIN:VEVENT
DTSTART;TZID=Europe/Berlin:20260507T140000
DTEND;TZID=Europe/Berlin:20260507T180000
DTSTAMP:20260421T151443
CREATED:20260214T144502Z
LAST-MODIFIED:20260415T185118Z
UID:10054507-1778162400-1778176800@potskids.de
SUMMARY:Blauer Daumen Donnerstag
DESCRIPTION:Hüttenbau sowie Basteln an Werkbänken nach eigenen Ideen mit Holz und Ytong\, außerdem Gestaltung von Hochbeeten etc. unter pädagogischer und handwerklicher Anleitung; Nutzung verschiedener Spielgeräte\, Kletterhaus\, Torwand\, Rutschen und Fahrradwerkstatt; Einradfahren lernen; Stockbrot am Feuer und vieles mehr. \nGeburtstagsfeiern sowie Gruppenangebote (vormittags sowie Fr. und Sa. auch nachmittags) für Schule\, Hort und Kita – nach Vereinbarung. \nZusatzangebot von 15 - 18 Uhr: Freiluftküche - Gemeinsames Kochen und Speisen. \n\n\nFür Kinder ab 8 Jahren auf dem Abenteuerspielplatz Blauer Daumen.
URL:https://potskids.de/potsdam-veranstaltung/blauer-daumen-donnerstag-2/2026-05-07/
LOCATION:Abenteuerspielplatz „Blauer Daumen“\, Steinstraße/ In der Aue 63\, Potsdam\, Brandenburg\, 14480\, Deutschland
CATEGORIES:Spiel und Spaß
ORGANIZER;CN="Abenteuerspielplatz %E2%80%9EBlauer Daumen%E2%80%9C":MAILTO:fibian@abenteuerspielplatz-potsdam.de
END:VEVENT
BEGIN:VEVENT
DTSTART;TZID=Europe/Berlin:20260521T140000
DTEND;TZID=Europe/Berlin:20260521T180000
DTSTAMP:20260421T151443
CREATED:20260214T144502Z
LAST-MODIFIED:20260415T185118Z
UID:10054508-1779372000-1779386400@potskids.de
SUMMARY:Blauer Daumen Donnerstag
DESCRIPTION:Hüttenbau sowie Basteln an Werkbänken nach eigenen Ideen mit Holz und Ytong\, außerdem Gestaltung von Hochbeeten etc. unter pädagogischer und handwerklicher Anleitung; Nutzung verschiedener Spielgeräte\, Kletterhaus\, Torwand\, Rutschen und Fahrradwerkstatt; Einradfahren lernen; Stockbrot am Feuer und vieles mehr. \nGeburtstagsfeiern sowie Gruppenangebote (vormittags sowie Fr. und Sa. auch nachmittags) für Schule\, Hort und Kita – nach Vereinbarung. \nZusatzangebot von 15 - 18 Uhr: Freiluftküche - Gemeinsames Kochen und Speisen. \n\n\nFür Kinder ab 8 Jahren auf dem Abenteuerspielplatz Blauer Daumen.
URL:https://potskids.de/potsdam-veranstaltung/blauer-daumen-donnerstag-2/2026-05-21/
LOCATION:Abenteuerspielplatz „Blauer Daumen“\, Steinstraße/ In der Aue 63\, Potsdam\, Brandenburg\, 14480\, Deutschland
CATEGORIES:Spiel und Spaß
ORGANIZER;CN="Abenteuerspielplatz %E2%80%9EBlauer Daumen%E2%80%9C":MAILTO:fibian@abenteuerspielplatz-potsdam.de
END:VEVENT
BEGIN:VEVENT
DTSTART;TZID=Europe/Berlin:20260528T140000
DTEND;TZID=Europe/Berlin:20260528T180000
DTSTAMP:20260421T151443
CREATED:20260214T144502Z
LAST-MODIFIED:20260415T185118Z
UID:10054509-1779976800-1779991200@potskids.de
SUMMARY:Blauer Daumen Donnerstag
DESCRIPTION:Hüttenbau sowie Basteln an Werkbänken nach eigenen Ideen mit Holz und Ytong\, außerdem Gestaltung von Hochbeeten etc. unter pädagogischer und handwerklicher Anleitung; Nutzung verschiedener Spielgeräte\, Kletterhaus\, Torwand\, Rutschen und Fahrradwerkstatt; Einradfahren lernen; Stockbrot am Feuer und vieles mehr. \nGeburtstagsfeiern sowie Gruppenangebote (vormittags sowie Fr. und Sa. auch nachmittags) für Schule\, Hort und Kita – nach Vereinbarung. \nZusatzangebot von 15 - 18 Uhr: Freiluftküche - Gemeinsames Kochen und Speisen. \n\n\nFür Kinder ab 8 Jahren auf dem Abenteuerspielplatz Blauer Daumen.
URL:https://potskids.de/potsdam-veranstaltung/blauer-daumen-donnerstag-2/2026-05-28/
LOCATION:Abenteuerspielplatz „Blauer Daumen“\, Steinstraße/ In der Aue 63\, Potsdam\, Brandenburg\, 14480\, Deutschland
CATEGORIES:Spiel und Spaß
ORGANIZER;CN="Abenteuerspielplatz %E2%80%9EBlauer Daumen%E2%80%9C":MAILTO:fibian@abenteuerspielplatz-potsdam.de
END:VEVENT
BEGIN:VEVENT
DTSTART;TZID=Europe/Berlin:20260604T140000
DTEND;TZID=Europe/Berlin:20260604T180000
DTSTAMP:20260421T151443
CREATED:20260214T144502Z
LAST-MODIFIED:20260415T185118Z
UID:10054529-1780581600-1780596000@potskids.de
SUMMARY:Blauer Daumen Donnerstag
DESCRIPTION:Hüttenbau sowie Basteln an Werkbänken nach eigenen Ideen mit Holz und Ytong\, außerdem Gestaltung von Hochbeeten etc. unter pädagogischer und handwerklicher Anleitung; Nutzung verschiedener Spielgeräte\, Kletterhaus\, Torwand\, Rutschen und Fahrradwerkstatt; Einradfahren lernen; Stockbrot am Feuer und vieles mehr. \nGeburtstagsfeiern sowie Gruppenangebote (vormittags sowie Fr. und Sa. auch nachmittags) für Schule\, Hort und Kita – nach Vereinbarung. \nZusatzangebot von 15 - 18 Uhr: Freiluftküche - Gemeinsames Kochen und Speisen. \n\n\nFür Kinder ab 8 Jahren auf dem Abenteuerspielplatz Blauer Daumen.
URL:https://potskids.de/potsdam-veranstaltung/blauer-daumen-donnerstag-2/2026-06-04/
LOCATION:Abenteuerspielplatz „Blauer Daumen“\, Steinstraße/ In der Aue 63\, Potsdam\, Brandenburg\, 14480\, Deutschland
CATEGORIES:Spiel und Spaß
ORGANIZER;CN="Abenteuerspielplatz %E2%80%9EBlauer Daumen%E2%80%9C":MAILTO:fibian@abenteuerspielplatz-potsdam.de
END:VEVENT
BEGIN:VEVENT
DTSTART;TZID=Europe/Berlin:20260611T140000
DTEND;TZID=Europe/Berlin:20260611T180000
DTSTAMP:20260421T151443
CREATED:20260214T144502Z
LAST-MODIFIED:20260415T185118Z
UID:10054530-1781186400-1781200800@potskids.de
SUMMARY:Blauer Daumen Donnerstag
DESCRIPTION:Hüttenbau sowie Basteln an Werkbänken nach eigenen Ideen mit Holz und Ytong\, außerdem Gestaltung von Hochbeeten etc. unter pädagogischer und handwerklicher Anleitung; Nutzung verschiedener Spielgeräte\, Kletterhaus\, Torwand\, Rutschen und Fahrradwerkstatt; Einradfahren lernen; Stockbrot am Feuer und vieles mehr. \nGeburtstagsfeiern sowie Gruppenangebote (vormittags sowie Fr. und Sa. auch nachmittags) für Schule\, Hort und Kita – nach Vereinbarung. \nZusatzangebot von 15 - 18 Uhr: Freiluftküche - Gemeinsames Kochen und Speisen. \n\n\nFür Kinder ab 8 Jahren auf dem Abenteuerspielplatz Blauer Daumen.
URL:https://potskids.de/potsdam-veranstaltung/blauer-daumen-donnerstag-2/2026-06-11/
LOCATION:Abenteuerspielplatz „Blauer Daumen“\, Steinstraße/ In der Aue 63\, Potsdam\, Brandenburg\, 14480\, Deutschland
CATEGORIES:Spiel und Spaß
ORGANIZER;CN="Abenteuerspielplatz %E2%80%9EBlauer Daumen%E2%80%9C":MAILTO:fibian@abenteuerspielplatz-potsdam.de
END:VEVENT
BEGIN:VEVENT
DTSTART;TZID=Europe/Berlin:20260618T140000
DTEND;TZID=Europe/Berlin:20260618T180000
DTSTAMP:20260421T151443
CREATED:20260214T144502Z
LAST-MODIFIED:20260415T185118Z
UID:10054531-1781791200-1781805600@potskids.de
SUMMARY:Blauer Daumen Donnerstag
DESCRIPTION:Hüttenbau sowie Basteln an Werkbänken nach eigenen Ideen mit Holz und Ytong\, außerdem Gestaltung von Hochbeeten etc. unter pädagogischer und handwerklicher Anleitung; Nutzung verschiedener Spielgeräte\, Kletterhaus\, Torwand\, Rutschen und Fahrradwerkstatt; Einradfahren lernen; Stockbrot am Feuer und vieles mehr. \nGeburtstagsfeiern sowie Gruppenangebote (vormittags sowie Fr. und Sa. auch nachmittags) für Schule\, Hort und Kita – nach Vereinbarung. \nZusatzangebot von 15 - 18 Uhr: Freiluftküche - Gemeinsames Kochen und Speisen. \n\n\nFür Kinder ab 8 Jahren auf dem Abenteuerspielplatz Blauer Daumen.
URL:https://potskids.de/potsdam-veranstaltung/blauer-daumen-donnerstag-2/2026-06-18/
LOCATION:Abenteuerspielplatz „Blauer Daumen“\, Steinstraße/ In der Aue 63\, Potsdam\, Brandenburg\, 14480\, Deutschland
CATEGORIES:Spiel und Spaß
ORGANIZER;CN="Abenteuerspielplatz %E2%80%9EBlauer Daumen%E2%80%9C":MAILTO:fibian@abenteuerspielplatz-potsdam.de
END:VEVENT
BEGIN:VEVENT
DTSTART;TZID=Europe/Berlin:20260625T140000
DTEND;TZID=Europe/Berlin:20260625T180000
DTSTAMP:20260421T151443
CREATED:20260214T144502Z
LAST-MODIFIED:20260415T185118Z
UID:10054532-1782396000-1782410400@potskids.de
SUMMARY:Blauer Daumen Donnerstag
DESCRIPTION:Hüttenbau sowie Basteln an Werkbänken nach eigenen Ideen mit Holz und Ytong\, außerdem Gestaltung von Hochbeeten etc. unter pädagogischer und handwerklicher Anleitung; Nutzung verschiedener Spielgeräte\, Kletterhaus\, Torwand\, Rutschen und Fahrradwerkstatt; Einradfahren lernen; Stockbrot am Feuer und vieles mehr. \nGeburtstagsfeiern sowie Gruppenangebote (vormittags sowie Fr. und Sa. auch nachmittags) für Schule\, Hort und Kita – nach Vereinbarung. \nZusatzangebot von 15 - 18 Uhr: Freiluftküche - Gemeinsames Kochen und Speisen. \n\n\nFür Kinder ab 8 Jahren auf dem Abenteuerspielplatz Blauer Daumen.
URL:https://potskids.de/potsdam-veranstaltung/blauer-daumen-donnerstag-2/2026-06-25/
LOCATION:Abenteuerspielplatz „Blauer Daumen“\, Steinstraße/ In der Aue 63\, Potsdam\, Brandenburg\, 14480\, Deutschland
CATEGORIES:Spiel und Spaß
ORGANIZER;CN="Abenteuerspielplatz %E2%80%9EBlauer Daumen%E2%80%9C":MAILTO:fibian@abenteuerspielplatz-potsdam.de
END:VEVENT
END:VCALENDAR