BEGIN:VCALENDAR
VERSION:2.0
PRODID:-//PotsKids! - ECPv6.4.0.1//NONSGML v1.0//EN
CALSCALE:GREGORIAN
METHOD:PUBLISH
X-ORIGINAL-URL:https://potskids.de
X-WR-CALDESC:Veranstaltungen für PotsKids!
REFRESH-INTERVAL;VALUE=DURATION:PT1H
X-Robots-Tag:noindex
X-PUBLISHED-TTL:PT1H
BEGIN:VTIMEZONE
TZID:Europe/Berlin
BEGIN:DAYLIGHT
TZOFFSETFROM:+0100
TZOFFSETTO:+0200
TZNAME:CEST
DTSTART:20260329T010000
END:DAYLIGHT
BEGIN:STANDARD
TZOFFSETFROM:+0200
TZOFFSETTO:+0100
TZNAME:CET
DTSTART:20261025T010000
END:STANDARD
END:VTIMEZONE
BEGIN:VEVENT
DTSTART;TZID=Europe/Berlin:20260508T140000
DTEND;TZID=Europe/Berlin:20260508T220000
DTSTAMP:20260421T190010
CREATED:20260416T181220Z
LAST-MODIFIED:20260416T181220Z
UID:10054638-1778248800-1778277600@potskids.de
SUMMARY:3. AkzepTanzFestival
DESCRIPTION:Am 8. und 9. Mai von 14 bis 22 Uhr findet auf dem Waschhausgelände das AkzepTanzFestival der Einzelfallhilfe-Manufaktur e. V. statt. Unter dem Motto „gemeinsam tanzen“ setzt es ein starkes Zeichen für gelebte Inklusion. Für musikalische Unterhaltung sorgen PA69\, ok.danke.tschüß\, Yu\, Bruckner\, Treptow sowie Power Plush und Senta & ENA\, die den Anfang machen mit Spaß für Kids. Und es gibt wieder die Aktionsinsel mit vielfältigen Mitmachangeboten auch für Kinder. Und wir sind am Samstag wieder mit Kinderschminken dabei!
URL:https://potskids.de/potsdam-veranstaltung/3-akzeptanzfestival/2026-05-08/
LOCATION:Waschhaus Potsdam\, Schiffbauergasse 6\, Potsdam\, Brandenburg\, 14467\, Deutschland
CATEGORIES:Bewegung,Festival,Musik,Tanz
END:VEVENT
BEGIN:VEVENT
DTSTART;TZID=Europe/Berlin:20260509T140000
DTEND;TZID=Europe/Berlin:20260509T220000
DTSTAMP:20260421T190010
CREATED:20260416T181220Z
LAST-MODIFIED:20260416T181220Z
UID:10054639-1778335200-1778364000@potskids.de
SUMMARY:3. AkzepTanzFestival
DESCRIPTION:Am 8. und 9. Mai von 14 bis 22 Uhr findet auf dem Waschhausgelände das AkzepTanzFestival der Einzelfallhilfe-Manufaktur e. V. statt. Unter dem Motto „gemeinsam tanzen“ setzt es ein starkes Zeichen für gelebte Inklusion. Für musikalische Unterhaltung sorgen PA69\, ok.danke.tschüß\, Yu\, Bruckner\, Treptow sowie Power Plush und Senta & ENA\, die den Anfang machen mit Spaß für Kids. Und es gibt wieder die Aktionsinsel mit vielfältigen Mitmachangeboten auch für Kinder. Und wir sind am Samstag wieder mit Kinderschminken dabei!
URL:https://potskids.de/potsdam-veranstaltung/3-akzeptanzfestival/2026-05-09/
LOCATION:Waschhaus Potsdam\, Schiffbauergasse 6\, Potsdam\, Brandenburg\, 14467\, Deutschland
CATEGORIES:Bewegung,Festival,Musik,Tanz
END:VEVENT
END:VCALENDAR