BEGIN:VCALENDAR
VERSION:2.0
PRODID:-//PotsKids! - ECPv6.4.0.1//NONSGML v1.0//EN
CALSCALE:GREGORIAN
METHOD:PUBLISH
X-ORIGINAL-URL:https://potskids.de
X-WR-CALDESC:Veranstaltungen für PotsKids!
REFRESH-INTERVAL;VALUE=DURATION:PT1H
X-Robots-Tag:noindex
X-PUBLISHED-TTL:PT1H
BEGIN:VTIMEZONE
TZID:Europe/Berlin
BEGIN:DAYLIGHT
TZOFFSETFROM:+0100
TZOFFSETTO:+0200
TZNAME:CEST
DTSTART:20260329T010000
END:DAYLIGHT
BEGIN:STANDARD
TZOFFSETFROM:+0200
TZOFFSETTO:+0100
TZNAME:CET
DTSTART:20261025T010000
END:STANDARD
END:VTIMEZONE
BEGIN:VEVENT
DTSTART;TZID=Europe/Berlin:20260511T090000
DTEND;TZID=Europe/Berlin:20260511T160000
DTSTAMP:20260421T075224
CREATED:20260417T210000Z
LAST-MODIFIED:20260417T210030Z
UID:10054690-1778490000-1778515200@potskids.de
SUMMARY:Schultüten basteln
DESCRIPTION:Jedes Jahr lädt das Büro KINDER(ar)MUT Eltern von Einschulungskindern dazu ein\, eine ganz individuelle Schultüte für ihr Kind zu basteln. Ob mit Sternen\, Blumen\, Kreisen beklebt\, bemalt oder mit anderen Materialien verziert: damit schenken die Eltern ihren Kindern etwas ganz Besonderes zu ihrem großen Tag. Seid auch ihr gern dabei!
URL:https://potskids.de/potsdam-veranstaltung/schultueten-basteln-3/
LOCATION:AWO-Eltern-Kind-Zentrum\, Röhrenstraße 6\, Potsdam\, Brandenburg\, 14480
CATEGORIES:Basteln,Eltern,Kreativität,Kunst
ORGANIZER;CN="B%C3%BCro KINDER(ar)MUT":MAILTO:buero-kindermut@awo-potsdam.de
END:VEVENT
BEGIN:VEVENT
DTSTART;TZID=Europe/Berlin:20260518T090000
DTEND;TZID=Europe/Berlin:20260518T160000
DTSTAMP:20260421T075224
CREATED:20260417T205800Z
LAST-MODIFIED:20260417T205800Z
UID:10054691-1779094800-1779120000@potskids.de
SUMMARY:Schultüten basteln
DESCRIPTION:Jedes Jahr lädt das Büro KINDER(ar)MUT Eltern von Einschulungskindern dazu ein\, eine ganz individuelle Schultüte für ihr Kind zu basteln. Ob mit Sternen\, Blumen\, Kreisen beklebt\, bemalt oder mit anderen Materialien verziert: damit schenken die Eltern ihren Kindern etwas ganz Besonderes zu ihrem großen Tag. Seid auch ihr gern dabei!
URL:https://potskids.de/potsdam-veranstaltung/schultueten-basteln/2026-05-18/
LOCATION:AWO-Eltern-Kind-Zentrum\, Röhrenstraße 6\, Potsdam\, Brandenburg\, 14480
CATEGORIES:Basteln,Eltern,Kreativität,Kunst
ORGANIZER;CN="B%C3%BCro KINDER(ar)MUT":MAILTO:buero-kindermut@awo-potsdam.de
END:VEVENT
BEGIN:VEVENT
DTSTART;TZID=Europe/Berlin:20260528T090000
DTEND;TZID=Europe/Berlin:20260528T170000
DTSTAMP:20260421T075224
CREATED:20260417T205938Z
LAST-MODIFIED:20260417T205938Z
UID:10054692-1779958800-1779987600@potskids.de
SUMMARY:Schultüten basteln
DESCRIPTION:Jedes Jahr lädt das Büro KINDER(ar)MUT Eltern von Einschulungskindern dazu ein\, eine ganz individuelle Schultüte für ihr Kind zu basteln. Ob mit Sternen\, Blumen\, Kreisen beklebt\, bemalt oder mit anderen Materialien verziert: damit schenken die Eltern ihren Kindern etwas ganz Besonderes zu ihrem großen Tag. Seid auch ihr gern dabei!
URL:https://potskids.de/potsdam-veranstaltung/schultueten-basteln-2/2026-05-28/
LOCATION:AWO Büro KINDER(ar)MUT\, Babelsberger Str. 12\, Potsdam\, Brandenburg\, 14473\, Deutschland
CATEGORIES:Basteln,Eltern,Kreativität,Kunst
ORGANIZER;CN="B%C3%BCro KINDER(ar)MUT":MAILTO:buero-kindermut@awo-potsdam.de
END:VEVENT
BEGIN:VEVENT
DTSTART;TZID=Europe/Berlin:20260611T090000
DTEND;TZID=Europe/Berlin:20260611T170000
DTSTAMP:20260421T075224
CREATED:20260417T205938Z
LAST-MODIFIED:20260417T205938Z
UID:10054693-1781168400-1781197200@potskids.de
SUMMARY:Schultüten basteln
DESCRIPTION:Jedes Jahr lädt das Büro KINDER(ar)MUT Eltern von Einschulungskindern dazu ein\, eine ganz individuelle Schultüte für ihr Kind zu basteln. Ob mit Sternen\, Blumen\, Kreisen beklebt\, bemalt oder mit anderen Materialien verziert: damit schenken die Eltern ihren Kindern etwas ganz Besonderes zu ihrem großen Tag. Seid auch ihr gern dabei!
URL:https://potskids.de/potsdam-veranstaltung/schultueten-basteln-2/2026-06-11/
LOCATION:AWO Büro KINDER(ar)MUT\, Babelsberger Str. 12\, Potsdam\, Brandenburg\, 14473\, Deutschland
CATEGORIES:Basteln,Eltern,Kreativität,Kunst
ORGANIZER;CN="B%C3%BCro KINDER(ar)MUT":MAILTO:buero-kindermut@awo-potsdam.de
END:VEVENT
BEGIN:VEVENT
DTSTART;TZID=Europe/Berlin:20260624T090000
DTEND;TZID=Europe/Berlin:20260624T170000
DTSTAMP:20260421T075224
CREATED:20260417T205938Z
LAST-MODIFIED:20260417T205938Z
UID:10054694-1782291600-1782320400@potskids.de
SUMMARY:Schultüten basteln
DESCRIPTION:Jedes Jahr lädt das Büro KINDER(ar)MUT Eltern von Einschulungskindern dazu ein\, eine ganz individuelle Schultüte für ihr Kind zu basteln. Ob mit Sternen\, Blumen\, Kreisen beklebt\, bemalt oder mit anderen Materialien verziert: damit schenken die Eltern ihren Kindern etwas ganz Besonderes zu ihrem großen Tag. Seid auch ihr gern dabei!
URL:https://potskids.de/potsdam-veranstaltung/schultueten-basteln-2/2026-06-24/
LOCATION:AWO Büro KINDER(ar)MUT\, Babelsberger Str. 12\, Potsdam\, Brandenburg\, 14473\, Deutschland
CATEGORIES:Basteln,Eltern,Kreativität,Kunst
ORGANIZER;CN="B%C3%BCro KINDER(ar)MUT":MAILTO:buero-kindermut@awo-potsdam.de
END:VEVENT
BEGIN:VEVENT
DTSTART;TZID=Europe/Berlin:20260625T090000
DTEND;TZID=Europe/Berlin:20260625T160000
DTSTAMP:20260421T075224
CREATED:20260417T210131Z
LAST-MODIFIED:20260417T210131Z
UID:10054695-1782378000-1782403200@potskids.de
SUMMARY:Schultüten basteln
DESCRIPTION:Jedes Jahr lädt das Büro KINDER(ar)MUT Eltern von Einschulungskindern dazu ein\, eine ganz individuelle Schultüte für ihr Kind zu basteln. Ob mit Sternen\, Blumen\, Kreisen beklebt\, bemalt oder mit anderen Materialien verziert: damit schenken die Eltern ihren Kindern etwas ganz Besonderes zu ihrem großen Tag. Seid auch ihr gern dabei!
URL:https://potskids.de/potsdam-veranstaltung/schultueten-basteln-2-2/
LOCATION:Bürgerhaus am Schlaatz\, Schilfhof 28\, Potsdam\, Brandenburg\, 14478\, Deutschland
CATEGORIES:Basteln,Eltern,Kreativität,Kunst
ORGANIZER;CN="B%C3%BCro KINDER(ar)MUT":MAILTO:buero-kindermut@awo-potsdam.de
END:VEVENT
BEGIN:VEVENT
DTSTART;TZID=Europe/Berlin:20260709T090000
DTEND;TZID=Europe/Berlin:20260709T170000
DTSTAMP:20260421T075224
CREATED:20260417T205938Z
LAST-MODIFIED:20260417T205938Z
UID:10054696-1783587600-1783616400@potskids.de
SUMMARY:Schultüten basteln
DESCRIPTION:Jedes Jahr lädt das Büro KINDER(ar)MUT Eltern von Einschulungskindern dazu ein\, eine ganz individuelle Schultüte für ihr Kind zu basteln. Ob mit Sternen\, Blumen\, Kreisen beklebt\, bemalt oder mit anderen Materialien verziert: damit schenken die Eltern ihren Kindern etwas ganz Besonderes zu ihrem großen Tag. Seid auch ihr gern dabei!
URL:https://potskids.de/potsdam-veranstaltung/schultueten-basteln-2/2026-07-09/
LOCATION:AWO Büro KINDER(ar)MUT\, Babelsberger Str. 12\, Potsdam\, Brandenburg\, 14473\, Deutschland
CATEGORIES:Basteln,Eltern,Kreativität,Kunst
ORGANIZER;CN="B%C3%BCro KINDER(ar)MUT":MAILTO:buero-kindermut@awo-potsdam.de
END:VEVENT
BEGIN:VEVENT
DTSTART;TZID=Europe/Berlin:20260728T090000
DTEND;TZID=Europe/Berlin:20260728T170000
DTSTAMP:20260421T075224
CREATED:20260417T205938Z
LAST-MODIFIED:20260417T205938Z
UID:10054697-1785229200-1785258000@potskids.de
SUMMARY:Schultüten basteln
DESCRIPTION:Jedes Jahr lädt das Büro KINDER(ar)MUT Eltern von Einschulungskindern dazu ein\, eine ganz individuelle Schultüte für ihr Kind zu basteln. Ob mit Sternen\, Blumen\, Kreisen beklebt\, bemalt oder mit anderen Materialien verziert: damit schenken die Eltern ihren Kindern etwas ganz Besonderes zu ihrem großen Tag. Seid auch ihr gern dabei!
URL:https://potskids.de/potsdam-veranstaltung/schultueten-basteln-2/2026-07-28/
LOCATION:AWO Büro KINDER(ar)MUT\, Babelsberger Str. 12\, Potsdam\, Brandenburg\, 14473\, Deutschland
CATEGORIES:Basteln,Eltern,Kreativität,Kunst
ORGANIZER;CN="B%C3%BCro KINDER(ar)MUT":MAILTO:buero-kindermut@awo-potsdam.de
END:VEVENT
END:VCALENDAR