BEGIN:VCALENDAR
VERSION:2.0
PRODID:-//PotsKids! - ECPv6.4.0.1//NONSGML v1.0//EN
CALSCALE:GREGORIAN
METHOD:PUBLISH
X-ORIGINAL-URL:https://potskids.de
X-WR-CALDESC:Veranstaltungen für PotsKids!
REFRESH-INTERVAL;VALUE=DURATION:PT1H
X-Robots-Tag:noindex
X-PUBLISHED-TTL:PT1H
BEGIN:VTIMEZONE
TZID:Europe/Berlin
BEGIN:DAYLIGHT
TZOFFSETFROM:+0100
TZOFFSETTO:+0200
TZNAME:CEST
DTSTART:20260329T010000
END:DAYLIGHT
BEGIN:STANDARD
TZOFFSETFROM:+0200
TZOFFSETTO:+0100
TZNAME:CET
DTSTART:20261025T010000
END:STANDARD
END:VTIMEZONE
BEGIN:VEVENT
DTSTART;VALUE=DATE:20260420
DTEND;VALUE=DATE:20260421
DTSTAMP:20260420T185846
CREATED:20260417T215803Z
LAST-MODIFIED:20260417T215803Z
UID:10054704-1776643200-1776729599@potskids.de
SUMMARY:Offene Woche beim Offenen Kunstverein Potsdam
DESCRIPTION:Vom 20. bis 26. April können Kinder\, Jugendliche und Erwachsene beim Offenen Kunstverein Potsdam ohne Anmeldung an Kursen teilnehmen oder zuschauen. Die Offene Woche bietet die Möglichkeit\, kreative Angebote unverbindlich kennenzulernen. \nFür Familien besonders geeignet sind die Zeichen- und Malkurse ab 6 Jahren sowie die Kindertheatergruppe „Pangolin“ (9–11 Jahre). Auch Jugendtheatergruppen geben Einblicke in ihre Proben. Vorkenntnisse sind nicht erforderlich. \nMontag\, 20.04. \n\n16:30 – 18:00 Uhr · Jugendtheater „Wirbelsonne“ (15–17 J.) · KuZe\n18:00 Uhr · Bildende Kunst „Montagsmaler“ (ab 18 J.) · KunstWerk\n20:00 – 21:30 Uhr · Theater „MadMix“ · KuZe\n\nDienstag\, 21.04. \n\n16:00 – 17:30 Uhr · Kindertheater „Pangolin“ (9–11 J.) · Studiohaus Schiffbauergasse\n\nMittwoch\, 23.04. \n\n15:00 – 16:30 Uhr · Bildende Kunst (ab 6 J.) · KunstWerk\n16:30 – 18:00 Uhr · Jugendtheater „Sisyphos“ (12–15 J.) · Studiohaus Schiffbauergasse\n17:00 – 18:30 Uhr · Bildende Kunst (ab 14 J.) · KunstWerk\n18:00 – 19:30 Uhr · Theater „Flutlicht“ (ab 18 J.) · KuZe\n\nDonnerstag\, 24.04. \n\n20:00 – 22:00 Uhr · Bildende Kunst (Erwachsene) · KunstWerk
URL:https://potskids.de/potsdam-veranstaltung/offene-woche-beim-offenen-kunstverein-potsdam/2026-04-20/
LOCATION:Offener Kunstverein Potsdam\, Hermann-Elflein-Straße 10\, Potsdam\, Brandenburg\, 14467\, Deutschland
CATEGORIES:Dies und Das,Kreativität,Kunst,Kurs,Theater
ORGANIZER;CN="Offener Kunstverein e.V.":MAILTO:info@okev.de
END:VEVENT
BEGIN:VEVENT
DTSTART;VALUE=DATE:20260421
DTEND;VALUE=DATE:20260422
DTSTAMP:20260420T185846
CREATED:20260417T215803Z
LAST-MODIFIED:20260417T215803Z
UID:10054705-1776729600-1776815999@potskids.de
SUMMARY:Offene Woche beim Offenen Kunstverein Potsdam
DESCRIPTION:Vom 20. bis 26. April können Kinder\, Jugendliche und Erwachsene beim Offenen Kunstverein Potsdam ohne Anmeldung an Kursen teilnehmen oder zuschauen. Die Offene Woche bietet die Möglichkeit\, kreative Angebote unverbindlich kennenzulernen. \nFür Familien besonders geeignet sind die Zeichen- und Malkurse ab 6 Jahren sowie die Kindertheatergruppe „Pangolin“ (9–11 Jahre). Auch Jugendtheatergruppen geben Einblicke in ihre Proben. Vorkenntnisse sind nicht erforderlich. \nMontag\, 20.04. \n\n16:30 – 18:00 Uhr · Jugendtheater „Wirbelsonne“ (15–17 J.) · KuZe\n18:00 Uhr · Bildende Kunst „Montagsmaler“ (ab 18 J.) · KunstWerk\n20:00 – 21:30 Uhr · Theater „MadMix“ · KuZe\n\nDienstag\, 21.04. \n\n16:00 – 17:30 Uhr · Kindertheater „Pangolin“ (9–11 J.) · Studiohaus Schiffbauergasse\n\nMittwoch\, 23.04. \n\n15:00 – 16:30 Uhr · Bildende Kunst (ab 6 J.) · KunstWerk\n16:30 – 18:00 Uhr · Jugendtheater „Sisyphos“ (12–15 J.) · Studiohaus Schiffbauergasse\n17:00 – 18:30 Uhr · Bildende Kunst (ab 14 J.) · KunstWerk\n18:00 – 19:30 Uhr · Theater „Flutlicht“ (ab 18 J.) · KuZe\n\nDonnerstag\, 24.04. \n\n20:00 – 22:00 Uhr · Bildende Kunst (Erwachsene) · KunstWerk
URL:https://potskids.de/potsdam-veranstaltung/offene-woche-beim-offenen-kunstverein-potsdam/2026-04-21/
LOCATION:Offener Kunstverein Potsdam\, Hermann-Elflein-Straße 10\, Potsdam\, Brandenburg\, 14467\, Deutschland
CATEGORIES:Dies und Das,Kreativität,Kunst,Kurs,Theater
ORGANIZER;CN="Offener Kunstverein e.V.":MAILTO:info@okev.de
END:VEVENT
BEGIN:VEVENT
DTSTART;VALUE=DATE:20260422
DTEND;VALUE=DATE:20260423
DTSTAMP:20260420T185846
CREATED:20260417T215803Z
LAST-MODIFIED:20260417T215803Z
UID:10054706-1776816000-1776902399@potskids.de
SUMMARY:Offene Woche beim Offenen Kunstverein Potsdam
DESCRIPTION:Vom 20. bis 26. April können Kinder\, Jugendliche und Erwachsene beim Offenen Kunstverein Potsdam ohne Anmeldung an Kursen teilnehmen oder zuschauen. Die Offene Woche bietet die Möglichkeit\, kreative Angebote unverbindlich kennenzulernen. \nFür Familien besonders geeignet sind die Zeichen- und Malkurse ab 6 Jahren sowie die Kindertheatergruppe „Pangolin“ (9–11 Jahre). Auch Jugendtheatergruppen geben Einblicke in ihre Proben. Vorkenntnisse sind nicht erforderlich. \nMontag\, 20.04. \n\n16:30 – 18:00 Uhr · Jugendtheater „Wirbelsonne“ (15–17 J.) · KuZe\n18:00 Uhr · Bildende Kunst „Montagsmaler“ (ab 18 J.) · KunstWerk\n20:00 – 21:30 Uhr · Theater „MadMix“ · KuZe\n\nDienstag\, 21.04. \n\n16:00 – 17:30 Uhr · Kindertheater „Pangolin“ (9–11 J.) · Studiohaus Schiffbauergasse\n\nMittwoch\, 23.04. \n\n15:00 – 16:30 Uhr · Bildende Kunst (ab 6 J.) · KunstWerk\n16:30 – 18:00 Uhr · Jugendtheater „Sisyphos“ (12–15 J.) · Studiohaus Schiffbauergasse\n17:00 – 18:30 Uhr · Bildende Kunst (ab 14 J.) · KunstWerk\n18:00 – 19:30 Uhr · Theater „Flutlicht“ (ab 18 J.) · KuZe\n\nDonnerstag\, 24.04. \n\n20:00 – 22:00 Uhr · Bildende Kunst (Erwachsene) · KunstWerk
URL:https://potskids.de/potsdam-veranstaltung/offene-woche-beim-offenen-kunstverein-potsdam/2026-04-22/
LOCATION:Offener Kunstverein Potsdam\, Hermann-Elflein-Straße 10\, Potsdam\, Brandenburg\, 14467\, Deutschland
CATEGORIES:Dies und Das,Kreativität,Kunst,Kurs,Theater
ORGANIZER;CN="Offener Kunstverein e.V.":MAILTO:info@okev.de
END:VEVENT
BEGIN:VEVENT
DTSTART;VALUE=DATE:20260423
DTEND;VALUE=DATE:20260424
DTSTAMP:20260420T185846
CREATED:20260417T215803Z
LAST-MODIFIED:20260417T215803Z
UID:10054707-1776902400-1776988799@potskids.de
SUMMARY:Offene Woche beim Offenen Kunstverein Potsdam
DESCRIPTION:Vom 20. bis 26. April können Kinder\, Jugendliche und Erwachsene beim Offenen Kunstverein Potsdam ohne Anmeldung an Kursen teilnehmen oder zuschauen. Die Offene Woche bietet die Möglichkeit\, kreative Angebote unverbindlich kennenzulernen. \nFür Familien besonders geeignet sind die Zeichen- und Malkurse ab 6 Jahren sowie die Kindertheatergruppe „Pangolin“ (9–11 Jahre). Auch Jugendtheatergruppen geben Einblicke in ihre Proben. Vorkenntnisse sind nicht erforderlich. \nMontag\, 20.04. \n\n16:30 – 18:00 Uhr · Jugendtheater „Wirbelsonne“ (15–17 J.) · KuZe\n18:00 Uhr · Bildende Kunst „Montagsmaler“ (ab 18 J.) · KunstWerk\n20:00 – 21:30 Uhr · Theater „MadMix“ · KuZe\n\nDienstag\, 21.04. \n\n16:00 – 17:30 Uhr · Kindertheater „Pangolin“ (9–11 J.) · Studiohaus Schiffbauergasse\n\nMittwoch\, 23.04. \n\n15:00 – 16:30 Uhr · Bildende Kunst (ab 6 J.) · KunstWerk\n16:30 – 18:00 Uhr · Jugendtheater „Sisyphos“ (12–15 J.) · Studiohaus Schiffbauergasse\n17:00 – 18:30 Uhr · Bildende Kunst (ab 14 J.) · KunstWerk\n18:00 – 19:30 Uhr · Theater „Flutlicht“ (ab 18 J.) · KuZe\n\nDonnerstag\, 24.04. \n\n20:00 – 22:00 Uhr · Bildende Kunst (Erwachsene) · KunstWerk
URL:https://potskids.de/potsdam-veranstaltung/offene-woche-beim-offenen-kunstverein-potsdam/2026-04-23/
LOCATION:Offener Kunstverein Potsdam\, Hermann-Elflein-Straße 10\, Potsdam\, Brandenburg\, 14467\, Deutschland
CATEGORIES:Dies und Das,Kreativität,Kunst,Kurs,Theater
ORGANIZER;CN="Offener Kunstverein e.V.":MAILTO:info@okev.de
END:VEVENT
BEGIN:VEVENT
DTSTART;VALUE=DATE:20260424
DTEND;VALUE=DATE:20260425
DTSTAMP:20260420T185846
CREATED:20260417T215803Z
LAST-MODIFIED:20260417T215803Z
UID:10054708-1776988800-1777075199@potskids.de
SUMMARY:Offene Woche beim Offenen Kunstverein Potsdam
DESCRIPTION:Vom 20. bis 26. April können Kinder\, Jugendliche und Erwachsene beim Offenen Kunstverein Potsdam ohne Anmeldung an Kursen teilnehmen oder zuschauen. Die Offene Woche bietet die Möglichkeit\, kreative Angebote unverbindlich kennenzulernen. \nFür Familien besonders geeignet sind die Zeichen- und Malkurse ab 6 Jahren sowie die Kindertheatergruppe „Pangolin“ (9–11 Jahre). Auch Jugendtheatergruppen geben Einblicke in ihre Proben. Vorkenntnisse sind nicht erforderlich. \nMontag\, 20.04. \n\n16:30 – 18:00 Uhr · Jugendtheater „Wirbelsonne“ (15–17 J.) · KuZe\n18:00 Uhr · Bildende Kunst „Montagsmaler“ (ab 18 J.) · KunstWerk\n20:00 – 21:30 Uhr · Theater „MadMix“ · KuZe\n\nDienstag\, 21.04. \n\n16:00 – 17:30 Uhr · Kindertheater „Pangolin“ (9–11 J.) · Studiohaus Schiffbauergasse\n\nMittwoch\, 23.04. \n\n15:00 – 16:30 Uhr · Bildende Kunst (ab 6 J.) · KunstWerk\n16:30 – 18:00 Uhr · Jugendtheater „Sisyphos“ (12–15 J.) · Studiohaus Schiffbauergasse\n17:00 – 18:30 Uhr · Bildende Kunst (ab 14 J.) · KunstWerk\n18:00 – 19:30 Uhr · Theater „Flutlicht“ (ab 18 J.) · KuZe\n\nDonnerstag\, 24.04. \n\n20:00 – 22:00 Uhr · Bildende Kunst (Erwachsene) · KunstWerk
URL:https://potskids.de/potsdam-veranstaltung/offene-woche-beim-offenen-kunstverein-potsdam/2026-04-24/
LOCATION:Offener Kunstverein Potsdam\, Hermann-Elflein-Straße 10\, Potsdam\, Brandenburg\, 14467\, Deutschland
CATEGORIES:Dies und Das,Kreativität,Kunst,Kurs,Theater
ORGANIZER;CN="Offener Kunstverein e.V.":MAILTO:info@okev.de
END:VEVENT
END:VCALENDAR