BEGIN:VCALENDAR
VERSION:2.0
PRODID:-//PotsKids! - ECPv6.4.0.1//NONSGML v1.0//EN
CALSCALE:GREGORIAN
METHOD:PUBLISH
X-ORIGINAL-URL:https://potskids.de
X-WR-CALDESC:Veranstaltungen für PotsKids!
REFRESH-INTERVAL;VALUE=DURATION:PT1H
X-Robots-Tag:noindex
X-PUBLISHED-TTL:PT1H
BEGIN:VTIMEZONE
TZID:Europe/Berlin
BEGIN:DAYLIGHT
TZOFFSETFROM:+0100
TZOFFSETTO:+0200
TZNAME:CEST
DTSTART:20260329T010000
END:DAYLIGHT
BEGIN:STANDARD
TZOFFSETFROM:+0200
TZOFFSETTO:+0100
TZNAME:CET
DTSTART:20261025T010000
END:STANDARD
END:VTIMEZONE
BEGIN:VEVENT
DTSTART;TZID=Europe/Berlin:20260509T120000
DTEND;TZID=Europe/Berlin:20260509T170000
DTSTAMP:20260421T235215
CREATED:20260418T130703Z
LAST-MODIFIED:20260418T130836Z
UID:10054998-1778328000-1778346000@potskids.de
SUMMARY:Pflanzenmarkt im Schlossgarten Petzow
DESCRIPTION:Am Samstag\, den 9. Mai (12–17 Uhr) und am Freitag\, den 29. Mai (12–18 Uhr) habt ihr die Gelegenheit\, durch den Pflanzenmarkt im Schlossgarten Petzow zu stöbern. \nEs erwartet euch eine vielfältige Auswahl an Pflanzen und Gartenprodukten: Ein ausgewähltes Sortiment alter und neuer Sorten\, Stauden für alle Gartensituationen\, Sommerblumen\, Gemüse und Raritäten! \nOb ihr nach neuen Schätzen für den Garten sucht oder einfach einen schönen Tag in besonderer Atmosphäre verbringen möchtet – ein Besuch lohnt sich. \n 
URL:https://potskids.de/potsdam-veranstaltung/pflanzenmarkt-im-schlossgarten-petzow/2026-05-09/
LOCATION:Schlossgarten Petzow\, Zelterstraße 4C\, Werder (Havel)\, Brandenburg\, 14542\, Deutschland
CATEGORIES:Beratung,Märkte,Natur und Umwelt
ORGANIZER;CN="Schlossgarten Petzow":MAILTO:info@schlossgarten-petzow.de
END:VEVENT
BEGIN:VEVENT
DTSTART;TZID=Europe/Berlin:20260529T120000
DTEND;TZID=Europe/Berlin:20260529T180000
DTSTAMP:20260421T235215
CREATED:20260418T130703Z
LAST-MODIFIED:20260418T130836Z
UID:10054999-1780056000-1780077600@potskids.de
SUMMARY:Pflanzenmarkt im Schlossgarten Petzow
DESCRIPTION:Am Samstag\, den 9. Mai (12–17 Uhr) und am Freitag\, den 29. Mai (12–18 Uhr) habt ihr die Gelegenheit\, durch den Pflanzenmarkt im Schlossgarten Petzow zu stöbern. \nEs erwartet euch eine vielfältige Auswahl an Pflanzen und Gartenprodukten: Ein ausgewähltes Sortiment alter und neuer Sorten\, Stauden für alle Gartensituationen\, Sommerblumen\, Gemüse und Raritäten! \nOb ihr nach neuen Schätzen für den Garten sucht oder einfach einen schönen Tag in besonderer Atmosphäre verbringen möchtet – ein Besuch lohnt sich. \n 
URL:https://potskids.de/potsdam-veranstaltung/pflanzenmarkt-im-schlossgarten-petzow/2026-05-29/
LOCATION:Schlossgarten Petzow\, Zelterstraße 4C\, Werder (Havel)\, Brandenburg\, 14542\, Deutschland
CATEGORIES:Beratung,Märkte,Natur und Umwelt
ORGANIZER;CN="Schlossgarten Petzow":MAILTO:info@schlossgarten-petzow.de
END:VEVENT
END:VCALENDAR