BEGIN:VCALENDAR
VERSION:2.0
PRODID:-//PotsKids! - ECPv6.4.0.1//NONSGML v1.0//EN
CALSCALE:GREGORIAN
METHOD:PUBLISH
X-WR-CALNAME:PotsKids!
X-ORIGINAL-URL:https://potskids.de
X-WR-CALDESC:Veranstaltungen für PotsKids!
REFRESH-INTERVAL;VALUE=DURATION:PT1H
X-Robots-Tag:noindex
X-PUBLISHED-TTL:PT1H
BEGIN:VTIMEZONE
TZID:Europe/Berlin
BEGIN:DAYLIGHT
TZOFFSETFROM:+0100
TZOFFSETTO:+0200
TZNAME:CEST
DTSTART:20260329T010000
END:DAYLIGHT
BEGIN:STANDARD
TZOFFSETFROM:+0200
TZOFFSETTO:+0100
TZNAME:CET
DTSTART:20261025T010000
END:STANDARD
END:VTIMEZONE
BEGIN:VEVENT
DTSTART;TZID=Europe/Berlin:20260612T090000
DTEND;TZID=Europe/Berlin:20260612T100000
DTSTAMP:20260421T061507
CREATED:20260209T144619Z
LAST-MODIFIED:20260420T111345Z
UID:10054407-1781254800-1781258400@potskids.de
SUMMARY:Die große Entwunderung des Wilbur Whittaker
DESCRIPTION:Das Wunder\, sich wundern\, wundersam\, Wunderung! Als Kind war Wilbur Whittaker ein Meister der Fantasie – keine Galaxie war zu fern für seine Ideen. Er verband die Sterne zu einer großen Karte und erfand einen Raketenrucksack\, um Wurmlöcher zu erforschen. All seine Wunderungen verstaute er in einem Karton unter dem Bett. \nJe älter Wilbur wurde\, desto weniger wunderte er sich\, und der Karton geriet in Vergessenheit. Heute arbeitet er in einem Büro am Flughafen und stempelt tagein\, tagaus. Eines Nachts taucht plötzlich Barney vom Büro für Wunderungen in seinem Schlafzimmer auf und nimmt den Karton mit zum Recycling. Wilbur wird unruhig: Seine Entwunderung beginnt. \nDa erscheint Prinzessin Fantastic und erklärt\, dass mit dem Karton auch sein Stern am Nachthimmel erlöschen würde und das Gleichgewicht des Universums von den Wunderungen abhängt. Gemeinsam begeben sie sich auf eine intergalaktische Reise\, um die Recyclingmaschine zu finden und die Große Entwunderung zu verhindern. \nGeeignet für Kinder ab 6 Jahren im Hans Otto Theater. \nKarten unter 0331 9811 8 oder kasse@hansottotheater.de
URL:https://potskids.de/potsdam-veranstaltung/die-grosse-entwunderung/2026-06-12/1/
LOCATION:Reithalle/Hans Otto Theater\, Schiffbauergasse 16\, Potsdam\, Brandenburg\, 14467\, Deutschland
CATEGORIES:Theater
ATTACH;FMTTYPE=image/jpeg:https://potskids.de/wp-content/uploads/2026/02/Mona-Georgia-Mueller-und-Paul-Wilms-©-Thomas-M.-Jauk.jpg
ORGANIZER;CN="Hans Otto Theater":MAILTO:kommunikation@hansottotheater.de
END:VEVENT
BEGIN:VEVENT
DTSTART;TZID=Europe/Berlin:20260612T110000
DTEND;TZID=Europe/Berlin:20260612T120000
DTSTAMP:20260421T061507
CREATED:20260209T144619Z
LAST-MODIFIED:20260420T111345Z
UID:10054408-1781262000-1781265600@potskids.de
SUMMARY:Die große Entwunderung des Wilbur Whittaker
DESCRIPTION:Das Wunder\, sich wundern\, wundersam\, Wunderung! Als Kind war Wilbur Whittaker ein Meister der Fantasie – keine Galaxie war zu fern für seine Ideen. Er verband die Sterne zu einer großen Karte und erfand einen Raketenrucksack\, um Wurmlöcher zu erforschen. All seine Wunderungen verstaute er in einem Karton unter dem Bett. \nJe älter Wilbur wurde\, desto weniger wunderte er sich\, und der Karton geriet in Vergessenheit. Heute arbeitet er in einem Büro am Flughafen und stempelt tagein\, tagaus. Eines Nachts taucht plötzlich Barney vom Büro für Wunderungen in seinem Schlafzimmer auf und nimmt den Karton mit zum Recycling. Wilbur wird unruhig: Seine Entwunderung beginnt. \nDa erscheint Prinzessin Fantastic und erklärt\, dass mit dem Karton auch sein Stern am Nachthimmel erlöschen würde und das Gleichgewicht des Universums von den Wunderungen abhängt. Gemeinsam begeben sie sich auf eine intergalaktische Reise\, um die Recyclingmaschine zu finden und die Große Entwunderung zu verhindern. \nGeeignet für Kinder ab 6 Jahren im Hans Otto Theater. \nKarten unter 0331 9811 8 oder kasse@hansottotheater.de
URL:https://potskids.de/potsdam-veranstaltung/die-grosse-entwunderung/2026-06-12/2/
LOCATION:Reithalle/Hans Otto Theater\, Schiffbauergasse 16\, Potsdam\, Brandenburg\, 14467\, Deutschland
CATEGORIES:Theater
ATTACH;FMTTYPE=image/jpeg:https://potskids.de/wp-content/uploads/2026/02/Mona-Georgia-Mueller-und-Paul-Wilms-©-Thomas-M.-Jauk.jpg
ORGANIZER;CN="Hans Otto Theater":MAILTO:kommunikation@hansottotheater.de
END:VEVENT
BEGIN:VEVENT
DTSTART;TZID=Europe/Berlin:20260618T090000
DTEND;TZID=Europe/Berlin:20260618T100000
DTSTAMP:20260421T061507
CREATED:20260209T144619Z
LAST-MODIFIED:20260420T111345Z
UID:10054409-1781773200-1781776800@potskids.de
SUMMARY:Die große Entwunderung des Wilbur Whittaker
DESCRIPTION:Das Wunder\, sich wundern\, wundersam\, Wunderung! Als Kind war Wilbur Whittaker ein Meister der Fantasie – keine Galaxie war zu fern für seine Ideen. Er verband die Sterne zu einer großen Karte und erfand einen Raketenrucksack\, um Wurmlöcher zu erforschen. All seine Wunderungen verstaute er in einem Karton unter dem Bett. \nJe älter Wilbur wurde\, desto weniger wunderte er sich\, und der Karton geriet in Vergessenheit. Heute arbeitet er in einem Büro am Flughafen und stempelt tagein\, tagaus. Eines Nachts taucht plötzlich Barney vom Büro für Wunderungen in seinem Schlafzimmer auf und nimmt den Karton mit zum Recycling. Wilbur wird unruhig: Seine Entwunderung beginnt. \nDa erscheint Prinzessin Fantastic und erklärt\, dass mit dem Karton auch sein Stern am Nachthimmel erlöschen würde und das Gleichgewicht des Universums von den Wunderungen abhängt. Gemeinsam begeben sie sich auf eine intergalaktische Reise\, um die Recyclingmaschine zu finden und die Große Entwunderung zu verhindern. \nGeeignet für Kinder ab 6 Jahren im Hans Otto Theater. \nKarten unter 0331 9811 8 oder kasse@hansottotheater.de
URL:https://potskids.de/potsdam-veranstaltung/die-grosse-entwunderung/2026-06-18/1/
LOCATION:Reithalle/Hans Otto Theater\, Schiffbauergasse 16\, Potsdam\, Brandenburg\, 14467\, Deutschland
CATEGORIES:Theater
ATTACH;FMTTYPE=image/jpeg:https://potskids.de/wp-content/uploads/2026/02/Mona-Georgia-Mueller-und-Paul-Wilms-©-Thomas-M.-Jauk.jpg
ORGANIZER;CN="Hans Otto Theater":MAILTO:kommunikation@hansottotheater.de
END:VEVENT
BEGIN:VEVENT
DTSTART;TZID=Europe/Berlin:20260618T110000
DTEND;TZID=Europe/Berlin:20260618T120000
DTSTAMP:20260421T061507
CREATED:20260209T144619Z
LAST-MODIFIED:20260420T111345Z
UID:10054410-1781780400-1781784000@potskids.de
SUMMARY:Die große Entwunderung des Wilbur Whittaker
DESCRIPTION:Das Wunder\, sich wundern\, wundersam\, Wunderung! Als Kind war Wilbur Whittaker ein Meister der Fantasie – keine Galaxie war zu fern für seine Ideen. Er verband die Sterne zu einer großen Karte und erfand einen Raketenrucksack\, um Wurmlöcher zu erforschen. All seine Wunderungen verstaute er in einem Karton unter dem Bett. \nJe älter Wilbur wurde\, desto weniger wunderte er sich\, und der Karton geriet in Vergessenheit. Heute arbeitet er in einem Büro am Flughafen und stempelt tagein\, tagaus. Eines Nachts taucht plötzlich Barney vom Büro für Wunderungen in seinem Schlafzimmer auf und nimmt den Karton mit zum Recycling. Wilbur wird unruhig: Seine Entwunderung beginnt. \nDa erscheint Prinzessin Fantastic und erklärt\, dass mit dem Karton auch sein Stern am Nachthimmel erlöschen würde und das Gleichgewicht des Universums von den Wunderungen abhängt. Gemeinsam begeben sie sich auf eine intergalaktische Reise\, um die Recyclingmaschine zu finden und die Große Entwunderung zu verhindern. \nGeeignet für Kinder ab 6 Jahren im Hans Otto Theater. \nKarten unter 0331 9811 8 oder kasse@hansottotheater.de
URL:https://potskids.de/potsdam-veranstaltung/die-grosse-entwunderung/2026-06-18/2/
LOCATION:Reithalle/Hans Otto Theater\, Schiffbauergasse 16\, Potsdam\, Brandenburg\, 14467\, Deutschland
CATEGORIES:Theater
ATTACH;FMTTYPE=image/jpeg:https://potskids.de/wp-content/uploads/2026/02/Mona-Georgia-Mueller-und-Paul-Wilms-©-Thomas-M.-Jauk.jpg
ORGANIZER;CN="Hans Otto Theater":MAILTO:kommunikation@hansottotheater.de
END:VEVENT
END:VCALENDAR