BEGIN:VCALENDAR
VERSION:2.0
PRODID:-//PotsKids! - ECPv6.4.0.1//NONSGML v1.0//EN
CALSCALE:GREGORIAN
METHOD:PUBLISH
X-ORIGINAL-URL:https://potskids.de
X-WR-CALDESC:Veranstaltungen für PotsKids!
REFRESH-INTERVAL;VALUE=DURATION:PT1H
X-Robots-Tag:noindex
X-PUBLISHED-TTL:PT1H
BEGIN:VTIMEZONE
TZID:Europe/Berlin
BEGIN:DAYLIGHT
TZOFFSETFROM:+0100
TZOFFSETTO:+0200
TZNAME:CEST
DTSTART:20260329T010000
END:DAYLIGHT
BEGIN:STANDARD
TZOFFSETFROM:+0200
TZOFFSETTO:+0100
TZNAME:CET
DTSTART:20261025T010000
END:STANDARD
END:VTIMEZONE
BEGIN:VEVENT
DTSTART;TZID=Europe/Berlin:20260716T080000
DTEND;TZID=Europe/Berlin:20260716T100000
DTSTAMP:20260420T233816
CREATED:20260414T153223Z
LAST-MODIFIED:20260418T140117Z
UID:10055038-1784188800-1784196000@potskids.de
SUMMARY:Elterncafé im Schlaatz
DESCRIPTION:Herzlich willkommen zum Elterncafé in Kooperation mit dem Bürgerhaus am Schlaatz! – Kommt vorbei auf einen Plausch\, zum Austauschen\, Vernetzen….
URL:https://potskids.de/potsdam-veranstaltung/elterncafe-im-schlaatz/2026-07-16/
LOCATION:Bürgerhaus am Schlaatz\, Schilfhof 28\, Potsdam\, Brandenburg\, 14478\, Deutschland
CATEGORIES:Austausch,Eltern,Gastronomie,Treffen
END:VEVENT
BEGIN:VEVENT
DTSTART;TZID=Europe/Berlin:20260723T080000
DTEND;TZID=Europe/Berlin:20260723T100000
DTSTAMP:20260420T233816
CREATED:20260414T153223Z
LAST-MODIFIED:20260418T140117Z
UID:10055039-1784793600-1784800800@potskids.de
SUMMARY:Elterncafé im Schlaatz
DESCRIPTION:Herzlich willkommen zum Elterncafé in Kooperation mit dem Bürgerhaus am Schlaatz! – Kommt vorbei auf einen Plausch\, zum Austauschen\, Vernetzen….
URL:https://potskids.de/potsdam-veranstaltung/elterncafe-im-schlaatz/2026-07-23/
LOCATION:Bürgerhaus am Schlaatz\, Schilfhof 28\, Potsdam\, Brandenburg\, 14478\, Deutschland
CATEGORIES:Austausch,Eltern,Gastronomie,Treffen
END:VEVENT
BEGIN:VEVENT
DTSTART;TZID=Europe/Berlin:20260730T080000
DTEND;TZID=Europe/Berlin:20260730T100000
DTSTAMP:20260420T233817
CREATED:20260414T153223Z
LAST-MODIFIED:20260418T140117Z
UID:10055040-1785398400-1785405600@potskids.de
SUMMARY:Elterncafé im Schlaatz
DESCRIPTION:Herzlich willkommen zum Elterncafé in Kooperation mit dem Bürgerhaus am Schlaatz! – Kommt vorbei auf einen Plausch\, zum Austauschen\, Vernetzen….
URL:https://potskids.de/potsdam-veranstaltung/elterncafe-im-schlaatz/2026-07-30/
LOCATION:Bürgerhaus am Schlaatz\, Schilfhof 28\, Potsdam\, Brandenburg\, 14478\, Deutschland
CATEGORIES:Austausch,Eltern,Gastronomie,Treffen
END:VEVENT
BEGIN:VEVENT
DTSTART;TZID=Europe/Berlin:20260806T080000
DTEND;TZID=Europe/Berlin:20260806T100000
DTSTAMP:20260420T233817
CREATED:20260414T153223Z
LAST-MODIFIED:20260418T140117Z
UID:10055041-1786003200-1786010400@potskids.de
SUMMARY:Elterncafé im Schlaatz
DESCRIPTION:Herzlich willkommen zum Elterncafé in Kooperation mit dem Bürgerhaus am Schlaatz! – Kommt vorbei auf einen Plausch\, zum Austauschen\, Vernetzen….
URL:https://potskids.de/potsdam-veranstaltung/elterncafe-im-schlaatz/2026-08-06/
LOCATION:Bürgerhaus am Schlaatz\, Schilfhof 28\, Potsdam\, Brandenburg\, 14478\, Deutschland
CATEGORIES:Austausch,Eltern,Gastronomie,Treffen
END:VEVENT
BEGIN:VEVENT
DTSTART;TZID=Europe/Berlin:20260813T080000
DTEND;TZID=Europe/Berlin:20260813T100000
DTSTAMP:20260420T233817
CREATED:20260414T153223Z
LAST-MODIFIED:20260418T140117Z
UID:10055042-1786608000-1786615200@potskids.de
SUMMARY:Elterncafé im Schlaatz
DESCRIPTION:Herzlich willkommen zum Elterncafé in Kooperation mit dem Bürgerhaus am Schlaatz! – Kommt vorbei auf einen Plausch\, zum Austauschen\, Vernetzen….
URL:https://potskids.de/potsdam-veranstaltung/elterncafe-im-schlaatz/2026-08-13/
LOCATION:Bürgerhaus am Schlaatz\, Schilfhof 28\, Potsdam\, Brandenburg\, 14478\, Deutschland
CATEGORIES:Austausch,Eltern,Gastronomie,Treffen
END:VEVENT
BEGIN:VEVENT
DTSTART;TZID=Europe/Berlin:20260820T080000
DTEND;TZID=Europe/Berlin:20260820T100000
DTSTAMP:20260420T233817
CREATED:20260414T153223Z
LAST-MODIFIED:20260418T140117Z
UID:10055043-1787212800-1787220000@potskids.de
SUMMARY:Elterncafé im Schlaatz
DESCRIPTION:Herzlich willkommen zum Elterncafé in Kooperation mit dem Bürgerhaus am Schlaatz! – Kommt vorbei auf einen Plausch\, zum Austauschen\, Vernetzen….
URL:https://potskids.de/potsdam-veranstaltung/elterncafe-im-schlaatz/2026-08-20/
LOCATION:Bürgerhaus am Schlaatz\, Schilfhof 28\, Potsdam\, Brandenburg\, 14478\, Deutschland
CATEGORIES:Austausch,Eltern,Gastronomie,Treffen
END:VEVENT
BEGIN:VEVENT
DTSTART;TZID=Europe/Berlin:20260827T080000
DTEND;TZID=Europe/Berlin:20260827T100000
DTSTAMP:20260420T233817
CREATED:20260414T153223Z
LAST-MODIFIED:20260418T140117Z
UID:10055044-1787817600-1787824800@potskids.de
SUMMARY:Elterncafé im Schlaatz
DESCRIPTION:Herzlich willkommen zum Elterncafé in Kooperation mit dem Bürgerhaus am Schlaatz! – Kommt vorbei auf einen Plausch\, zum Austauschen\, Vernetzen….
URL:https://potskids.de/potsdam-veranstaltung/elterncafe-im-schlaatz/2026-08-27/
LOCATION:Bürgerhaus am Schlaatz\, Schilfhof 28\, Potsdam\, Brandenburg\, 14478\, Deutschland
CATEGORIES:Austausch,Eltern,Gastronomie,Treffen
END:VEVENT
BEGIN:VEVENT
DTSTART;TZID=Europe/Berlin:20260903T080000
DTEND;TZID=Europe/Berlin:20260903T100000
DTSTAMP:20260420T233817
CREATED:20260414T153223Z
LAST-MODIFIED:20260418T140117Z
UID:10055045-1788422400-1788429600@potskids.de
SUMMARY:Elterncafé im Schlaatz
DESCRIPTION:Herzlich willkommen zum Elterncafé in Kooperation mit dem Bürgerhaus am Schlaatz! – Kommt vorbei auf einen Plausch\, zum Austauschen\, Vernetzen….
URL:https://potskids.de/potsdam-veranstaltung/elterncafe-im-schlaatz/2026-09-03/
LOCATION:Bürgerhaus am Schlaatz\, Schilfhof 28\, Potsdam\, Brandenburg\, 14478\, Deutschland
CATEGORIES:Austausch,Eltern,Gastronomie,Treffen
END:VEVENT
BEGIN:VEVENT
DTSTART;TZID=Europe/Berlin:20260910T080000
DTEND;TZID=Europe/Berlin:20260910T100000
DTSTAMP:20260420T233817
CREATED:20260414T153223Z
LAST-MODIFIED:20260418T140117Z
UID:10055046-1789027200-1789034400@potskids.de
SUMMARY:Elterncafé im Schlaatz
DESCRIPTION:Herzlich willkommen zum Elterncafé in Kooperation mit dem Bürgerhaus am Schlaatz! – Kommt vorbei auf einen Plausch\, zum Austauschen\, Vernetzen….
URL:https://potskids.de/potsdam-veranstaltung/elterncafe-im-schlaatz/2026-09-10/
LOCATION:Bürgerhaus am Schlaatz\, Schilfhof 28\, Potsdam\, Brandenburg\, 14478\, Deutschland
CATEGORIES:Austausch,Eltern,Gastronomie,Treffen
END:VEVENT
BEGIN:VEVENT
DTSTART;TZID=Europe/Berlin:20260917T080000
DTEND;TZID=Europe/Berlin:20260917T100000
DTSTAMP:20260420T233817
CREATED:20260414T153223Z
LAST-MODIFIED:20260418T140117Z
UID:10055047-1789632000-1789639200@potskids.de
SUMMARY:Elterncafé im Schlaatz
DESCRIPTION:Herzlich willkommen zum Elterncafé in Kooperation mit dem Bürgerhaus am Schlaatz! – Kommt vorbei auf einen Plausch\, zum Austauschen\, Vernetzen….
URL:https://potskids.de/potsdam-veranstaltung/elterncafe-im-schlaatz/2026-09-17/
LOCATION:Bürgerhaus am Schlaatz\, Schilfhof 28\, Potsdam\, Brandenburg\, 14478\, Deutschland
CATEGORIES:Austausch,Eltern,Gastronomie,Treffen
END:VEVENT
BEGIN:VEVENT
DTSTART;TZID=Europe/Berlin:20260924T080000
DTEND;TZID=Europe/Berlin:20260924T100000
DTSTAMP:20260420T233817
CREATED:20260414T153223Z
LAST-MODIFIED:20260418T140117Z
UID:10055048-1790236800-1790244000@potskids.de
SUMMARY:Elterncafé im Schlaatz
DESCRIPTION:Herzlich willkommen zum Elterncafé in Kooperation mit dem Bürgerhaus am Schlaatz! – Kommt vorbei auf einen Plausch\, zum Austauschen\, Vernetzen….
URL:https://potskids.de/potsdam-veranstaltung/elterncafe-im-schlaatz/2026-09-24/
LOCATION:Bürgerhaus am Schlaatz\, Schilfhof 28\, Potsdam\, Brandenburg\, 14478\, Deutschland
CATEGORIES:Austausch,Eltern,Gastronomie,Treffen
END:VEVENT
BEGIN:VEVENT
DTSTART;TZID=Europe/Berlin:20261001T080000
DTEND;TZID=Europe/Berlin:20261001T100000
DTSTAMP:20260420T233817
CREATED:20260414T153223Z
LAST-MODIFIED:20260418T140117Z
UID:10055049-1790841600-1790848800@potskids.de
SUMMARY:Elterncafé im Schlaatz
DESCRIPTION:Herzlich willkommen zum Elterncafé in Kooperation mit dem Bürgerhaus am Schlaatz! – Kommt vorbei auf einen Plausch\, zum Austauschen\, Vernetzen….
URL:https://potskids.de/potsdam-veranstaltung/elterncafe-im-schlaatz/2026-10-01/
LOCATION:Bürgerhaus am Schlaatz\, Schilfhof 28\, Potsdam\, Brandenburg\, 14478\, Deutschland
CATEGORIES:Austausch,Eltern,Gastronomie,Treffen
END:VEVENT
BEGIN:VEVENT
DTSTART;TZID=Europe/Berlin:20261008T080000
DTEND;TZID=Europe/Berlin:20261008T100000
DTSTAMP:20260420T233817
CREATED:20260414T153223Z
LAST-MODIFIED:20260418T140117Z
UID:10055050-1791446400-1791453600@potskids.de
SUMMARY:Elterncafé im Schlaatz
DESCRIPTION:Herzlich willkommen zum Elterncafé in Kooperation mit dem Bürgerhaus am Schlaatz! – Kommt vorbei auf einen Plausch\, zum Austauschen\, Vernetzen….
URL:https://potskids.de/potsdam-veranstaltung/elterncafe-im-schlaatz/2026-10-08/
LOCATION:Bürgerhaus am Schlaatz\, Schilfhof 28\, Potsdam\, Brandenburg\, 14478\, Deutschland
CATEGORIES:Austausch,Eltern,Gastronomie,Treffen
END:VEVENT
BEGIN:VEVENT
DTSTART;TZID=Europe/Berlin:20261015T080000
DTEND;TZID=Europe/Berlin:20261015T100000
DTSTAMP:20260420T233817
CREATED:20260414T153223Z
LAST-MODIFIED:20260418T140117Z
UID:10055051-1792051200-1792058400@potskids.de
SUMMARY:Elterncafé im Schlaatz
DESCRIPTION:Herzlich willkommen zum Elterncafé in Kooperation mit dem Bürgerhaus am Schlaatz! – Kommt vorbei auf einen Plausch\, zum Austauschen\, Vernetzen….
URL:https://potskids.de/potsdam-veranstaltung/elterncafe-im-schlaatz/2026-10-15/
LOCATION:Bürgerhaus am Schlaatz\, Schilfhof 28\, Potsdam\, Brandenburg\, 14478\, Deutschland
CATEGORIES:Austausch,Eltern,Gastronomie,Treffen
END:VEVENT
BEGIN:VEVENT
DTSTART;TZID=Europe/Berlin:20261022T080000
DTEND;TZID=Europe/Berlin:20261022T100000
DTSTAMP:20260420T233817
CREATED:20260414T153223Z
LAST-MODIFIED:20260418T140117Z
UID:10055052-1792656000-1792663200@potskids.de
SUMMARY:Elterncafé im Schlaatz
DESCRIPTION:Herzlich willkommen zum Elterncafé in Kooperation mit dem Bürgerhaus am Schlaatz! – Kommt vorbei auf einen Plausch\, zum Austauschen\, Vernetzen….
URL:https://potskids.de/potsdam-veranstaltung/elterncafe-im-schlaatz/2026-10-22/
LOCATION:Bürgerhaus am Schlaatz\, Schilfhof 28\, Potsdam\, Brandenburg\, 14478\, Deutschland
CATEGORIES:Austausch,Eltern,Gastronomie,Treffen
END:VEVENT
BEGIN:VEVENT
DTSTART;TZID=Europe/Berlin:20261029T080000
DTEND;TZID=Europe/Berlin:20261029T100000
DTSTAMP:20260420T233817
CREATED:20260414T153223Z
LAST-MODIFIED:20260418T140117Z
UID:10055053-1793260800-1793268000@potskids.de
SUMMARY:Elterncafé im Schlaatz
DESCRIPTION:Herzlich willkommen zum Elterncafé in Kooperation mit dem Bürgerhaus am Schlaatz! – Kommt vorbei auf einen Plausch\, zum Austauschen\, Vernetzen….
URL:https://potskids.de/potsdam-veranstaltung/elterncafe-im-schlaatz/2026-10-29/
LOCATION:Bürgerhaus am Schlaatz\, Schilfhof 28\, Potsdam\, Brandenburg\, 14478\, Deutschland
CATEGORIES:Austausch,Eltern,Gastronomie,Treffen
END:VEVENT
END:VCALENDAR